BEGIN:VCALENDAR
VERSION:2.0
PRODID:-//ChamberMaster//Event Calendar 2.0//EN
METHOD:PUBLISH
X-PUBLISHED-TTL:P3D
REFRESH-INTERVAL:P3D
CALSCALE:GREGORIAN
BEGIN:VEVENT
DTSTART;VALUE=DATE:20230630
DTEND;VALUE=DATE:20230702
TRANSP:TRANSPARENT
X-MICROSOFT-CDO-ALLDAYEVENT:TRUE
SUMMARY:Holla In The Vines
DESCRIPTION:Holla! Holla! Holla In The Vines 2023 features Feed The Dog\, Gin Mill Hollow\, The Lower 5th\, and Tim & Sheryl Hall back at the vineyard on July 1st with a Jazz Hams pre-party on June 30th. Mark your calendar and start making plans to join us just outside Sauk City\, WI for musicampingfest! We're stepping up the plans this year so expect even more of the good times and great music with your friends. Tickets will go on sale Friday\, March 10th via https://QRacktickets.com. Single day tickets as well as weekend and camping passes will be available.\n\nA special thank you goes out to our initial returning sponsors\, The Up North Bar Madison\, Branded Image\, One Barrel Brewing\, and Cody Campbell Fitness. Don't hesitate to reach out if you or your business is interested in a sponsorship.\n\nWe can't wait to see you at The Vines in a few short months!!
X-ALT-DESC;FMTTYPE=text/html:<div class="xdj266r x11i5rnm xat24cr x1mh8g0r x1vvkbs" style="margin: 0px\; overflow-wrap: break-word\; font-family: &quot\;Segoe UI Historic&quot\;\, &quot\;Segoe UI&quot\;\, Helvetica\, Arial\, sans-serif\; color: rgb(5\, 5\, 5)\; font-size: 15px\;">Holla! Holla! Holla In The Vines 2023 features Feed The Dog\, Gin Mill Hollow\, The Lower 5th\, and Tim &amp\; Sheryl Hall back at the vineyard on July 1st with a Jazz Hams pre-party on June 30th. Mark your calendar and start making plans to join us just outside Sauk City\, WI for musicampingfest! We&#39\;re stepping up the plans this year so expect even more of the good times and great music with your friends. Tickets will go on sale Friday\, March 10th via&nbsp\;<a class="x1i10hfl xjbqb8w x6umtig x1b1mbwd xaqea5y xav7gou x9f619 x1ypdohk xt0psk2 xe8uvvx xdj266r x11i5rnm xat24cr x1mh8g0r xexx8yu x4uap5 x18d9i69 xkhd6sd x16tdsg8 x1hl2dhg xggy1nq x1a2a7pz xt0b8zv x1fey0fg" href="https://qracktickets.com/?fbclid=IwAR0rjgi8x7FUdx20pP8bpG27PJvn44ecJek2CYUWw6MI-G3hbbWDq_i6CQI" rel="nofollow noreferrer" role="link" style="color: var(--blue-link)\; cursor: pointer\; text-decoration-line: none\; border-width: 0px\; border-style: initial\; border-color: initial\; outline: none\; list-style: none\; margin: 0px\; text-align: inherit\; padding: 0px\; -webkit-tap-highlight-color: transparent\; box-sizing: border-box\; touch-action: manipulation\; background-color: transparent\; display: inline\; font-family: inherit\;" tabindex="0" target="_blank"><u>https://QRacktickets.com</u>.</a>&nbsp\;Single day tickets as well as weekend and camping passes will be available.</div>\n\n<div class="x11i5rnm xat24cr x1mh8g0r x1vvkbs xtlvy1s" style="margin: 0.5em 0px 0px\; overflow-wrap: break-word\; font-family: &quot\;Segoe UI Historic&quot\;\, &quot\;Segoe UI&quot\;\, Helvetica\, Arial\, sans-serif\; color: rgb(5\, 5\, 5)\; font-size: 15px\;">A special thank you goes out to our initial returning sponsors\, The Up North Bar Madison\, Branded Image\, One Barrel Brewing\, and Cody Campbell Fitness. Don&#39\;t hesitate to reach out if you or your business is interested in a sponsorship.</div>\n\n<div class="x11i5rnm xat24cr x1mh8g0r x1vvkbs xtlvy1s" style="margin: 0.5em 0px 0px\; overflow-wrap: break-word\; font-family: &quot\;Segoe UI Historic&quot\;\, &quot\;Segoe UI&quot\;\, Helvetica\, Arial\, sans-serif\; color: rgb(5\, 5\, 5)\; font-size: 15px\;">We can&#39\;t wait to see you at The Vines in a few short months!!</div>\n
LOCATION:The Vines W13002 Schoepp Road\, Sauk City
UID:e.1184.30879
SEQUENCE:3
DTSTAMP:20260420T102157Z
URL:http://members.saukprairie.com/events/details/holla-in-the-vines-30879
END:VEVENT

END:VCALENDAR
