BEGIN:VCALENDAR
VERSION:2.0
PRODID:-//ChamberMaster//Event Calendar 2.0//EN
METHOD:PUBLISH
X-PUBLISHED-TTL:P3D
REFRESH-INTERVAL:P3D
CALSCALE:GREGORIAN
BEGIN:VEVENT
DTSTART;VALUE=DATE:20231201
DTEND;VALUE=DATE:20231203
TRANSP:TRANSPARENT
X-MICROSOFT-CDO-ALLDAYEVENT:TRUE
SUMMARY:Holly Jolly Grinchmas!
DESCRIPTION:Dust off that holiday sweater\, grab your "who-crew"\, and hit the streets of Sauk Prairie for Holly Jolly Grinchmas! Enjoy a day of shopping\, raffles\, games\, giveaways\, crafts\, and tons more fun for all ages!\n\n\n\nClick here to see a schedule of events.
X-ALT-DESC;FMTTYPE=text/html:Dust off that holiday sweater\, grab your &quot\;who-crew&quot\;\, and hit the streets of Sauk Prairie for Holly Jolly Grinchmas! Enjoy a day of shopping\, raffles\, games\, giveaways\, crafts\, and tons more fun for all ages!<br />\n<br />\n<a href="https://www.saukprairie.com/holly-jolly">Click here to see a schedule of events.</a>
LOCATION:Sauk Prairie
UID:e.1184.29292
SEQUENCE:3
DTSTAMP:20260420T033154Z
URL:http://members.saukprairie.com/events/details/holly-jolly-grinchmas-29292
END:VEVENT

END:VCALENDAR
