BEGIN:VCALENDAR
VERSION:2.0
PRODID:-//ChamberMaster//Event Calendar 2.0//EN
METHOD:PUBLISH
X-PUBLISHED-TTL:P3D
REFRESH-INTERVAL:P3D
CALSCALE:GREGORIAN
BEGIN:VEVENT
DTSTART;VALUE=DATE:20181201
DTEND;VALUE=DATE:20181202
TRANSP:TRANSPARENT
X-MICROSOFT-CDO-ALLDAYEVENT:TRUE
SUMMARY:Holly Jolly Sauk Prairie
DESCRIPTION:Saturday\, December 1st\n\n\n	Selfies with Santa - 9am-12pm\n\n	\n		Sauk Prairie Area Historical Society\n	\n	\n	Christmas Around the Farm Table - 2-3pm\n	\n		Sauk Prairie Area Historical Society\n	\n	\n	Mini Brewery Tours - 12pm\, 1pm\, 2pm\, & 3pm \n	\n		Vintage Brewing Company\n	\n	\n	Kat's Creations Open House - Inventory Reduction Sale - 10am-2pm\n	\n		Kat's Creations - W14132 Theresa Lane\, Prairie du Sac\n	\n	\n	Holly Jolly Pop-Ups - 10am-4pm\n	\n		Acute Corner (509 Water St.\, Prairie du Sac)\n	\n	\n	Holiday Open House - 10am-5pm\n	\n		River Arts on Water\n	\n	\n	Narnia (Children's Musical) - 7-9pm\n	\n		River Arts Center\n	\n	\n	In house Vendors & Special Promotions\n	\n		SP Fitness\n	\n	\n	Free Christmas Movie (Elf) - 11am\n	\n		Bonham Theatre\n	\n	\n	Cookie Decoration at 3pm\n	\n		Eagle Inn \n	\n	\n	Store Wide Holiday Sale! - 10am-6pm\n	\n		Cameo Antique Mall\n	\n	\n	Hot Coco & Cookies - Noon-4pm\n	\n		Sauk City Riverfront Plaza\n	\n	\n	Rummage Sale with Hot Coco & Cookies\n	\n		Sauk City Library\n	\n	\n	Needlefelt Christmas Ornaments from 10am-3pm\n	\n		DMarie Knit & Fiber\n	\n	\n	Pet selfies with Santa from 2-4pm\n	\n		Sauk City Riverfront Plaza\n	\n	\n	Harpist Karen Atz with Tea\, Hot Coco\, and Cookies from 2-3pm\n	\n		The Pines Senior Living\n	\n	\n	Pine Cone Decorating from 10:00am-12:30pm\n	\n		Maplewood of Sauk Prairie\n	\n	\n	Bowling with Santa from 2-5pm\n	\n		Riviera Bowl\n	\n	\n	Open House\n	\n		Rainbow Floral\n	\n	\n	Polish Changes from 11:30am-1pm\n	\n		Cloud Nine Day Spa & Salon\n	\n	\n	Open House with Hot Cocoa\n	\n		McFarlane's\n	\n	\n	Holiday Light Parade & Fireworks Extravaganza! \n\n\n \n\nJoin us for a pre-parade program at GraceWay Church starting at 5:00 pm.  Hot cocoa is provided while you enjoy music and dance performances.
X-ALT-DESC;FMTTYPE=text/html:<h3 style="box-sizing: border-box\; font-family: Arial\, &quot\;Helvetica Neue&quot\;\, Helvetica\, sans-serif\; font-weight: bold\; line-height: 1.1\; color: rgb(170\, 170\, 170)\; margin-top: 20px\; margin-bottom: 10px\; font-size: 1.5rem\; font-style: italic\;"><span style="box-sizing: border-box\; color: rgb(128\, 0\, 0)\;">Saturday\, December 1st</span></h3>\n\n<ul style="box-sizing: border-box\; margin-top: 0px\; margin-bottom: 0px\; font-family: Arial\, &quot\;Helvetica Neue&quot\;\, Helvetica\, sans-serif\; font-size: 16px\;">\n	<li style="box-sizing: border-box\;"><a href="https://www.facebook.com/events/2220618368008883/" style="box-sizing: border-box\; background-color: transparent\; color: rgb(80\, 132\, 13)\; text-decoration-line: none\;">Selfies with Santa</a>&nbsp\;- 9am-12pm\n\n	<ul style="box-sizing: border-box\; margin-top: 0px\; margin-bottom: 0px\; list-style-type: disc\;">\n		<li style="box-sizing: border-box\;">Sauk Prairie Area Historical Society</li>\n	</ul>\n	</li>\n	<li style="box-sizing: border-box\;"><a href="https://www.facebook.com/events/967533813446997/" style="box-sizing: border-box\; background-color: transparent\; color: rgb(80\, 132\, 13)\; text-decoration-line: none\;">Christmas Around the Farm Table</a>&nbsp\;- 2-3pm\n	<ul style="box-sizing: border-box\; margin-top: 0px\; margin-bottom: 0px\; list-style-type: disc\;">\n		<li style="box-sizing: border-box\;">Sauk Prairie Area Historical Society</li>\n	</ul>\n	</li>\n	<li style="box-sizing: border-box\;"><a href="https://fareharbor.com/vintagebrewingcompanysaukprairie/items/116180/" style="box-sizing: border-box\; background-color: transparent\; color: rgb(80\, 132\, 13)\; text-decoration-line: none\;">Mini Brewery Tours</a>&nbsp\;- 12pm\, 1pm\, 2pm\, &amp\; 3pm&nbsp\;\n	<ul style="box-sizing: border-box\; margin-top: 0px\; margin-bottom: 0px\; list-style-type: disc\;">\n		<li style="box-sizing: border-box\;">Vintage Brewing Company</li>\n	</ul>\n	</li>\n	<li style="box-sizing: border-box\;"><a href="https://business.facebook.com/events/344114889733302/" style="box-sizing: border-box\; background-color: transparent\; color: rgb(80\, 132\, 13)\; text-decoration-line: none\;">Kat&#39\;s Creations Open House - Inventory Reduction Sale</a>&nbsp\;- 10am-2pm\n	<ul style="box-sizing: border-box\; margin-top: 0px\; margin-bottom: 0px\; list-style-type: disc\;">\n		<li style="box-sizing: border-box\;">Kat&#39\;s Creations - W14132 Theresa Lane\, Prairie du Sac</li>\n	</ul>\n	</li>\n	<li style="box-sizing: border-box\;"><a href="https://www.facebook.com/events/259168138115681/" style="box-sizing: border-box\; background-color: transparent\; color: rgb(80\, 132\, 13)\; text-decoration-line: none\;">Holly Jolly Pop-Ups</a>&nbsp\;- 10am-4pm\n	<ul style="box-sizing: border-box\; margin-top: 0px\; margin-bottom: 0px\; list-style-type: disc\;">\n		<li style="box-sizing: border-box\;">Acute Corner (509 Water St.\, Prairie du Sac)</li>\n	</ul>\n	</li>\n	<li style="box-sizing: border-box\;"><a href="https://www.facebook.com/events/181756262662355/?event_time_id=181756279329020" style="box-sizing: border-box\; background-color: transparent\; color: rgb(80\, 132\, 13)\; text-decoration-line: none\;">Holiday Open House</a>&nbsp\;- 10am-5pm\n	<ul style="box-sizing: border-box\; margin-top: 0px\; margin-bottom: 0px\; list-style-type: disc\;">\n		<li style="box-sizing: border-box\;">River Arts on Water</li>\n	</ul>\n	</li>\n	<li style="box-sizing: border-box\;"><a href="https://www.facebook.com/events/543812762737221/" style="box-sizing: border-box\; background-color: transparent\; color: rgb(80\, 132\, 13)\; text-decoration-line: none\;">Narnia (Children&#39\;s Musical) -</a>&nbsp\;7-9pm\n	<ul style="box-sizing: border-box\; margin-top: 0px\; margin-bottom: 0px\; list-style-type: disc\;">\n		<li style="box-sizing: border-box\;">River Arts Center</li>\n	</ul>\n	</li>\n	<li style="box-sizing: border-box\;"><a href="https://www.facebook.com/events/623684644695351/" style="box-sizing: border-box\; background-color: transparent\; color: rgb(80\, 132\, 13)\; text-decoration-line: none\;">In house Vendors &amp\; Special Promotions</a>\n	<ul style="box-sizing: border-box\; margin-top: 0px\; margin-bottom: 0px\; list-style-type: disc\;">\n		<li style="box-sizing: border-box\;">SP Fitness</li>\n	</ul>\n	</li>\n	<li style="box-sizing: border-box\;"><a href="https://business.facebook.com/events/437822016748763/" style="box-sizing: border-box\; background-color: transparent\; color: rgb(80\, 132\, 13)\; text-decoration-line: none\;">Free Christmas Movie</a>&nbsp\;(Elf) - 11am\n	<ul style="box-sizing: border-box\; margin-top: 0px\; margin-bottom: 0px\; list-style-type: disc\;">\n		<li style="box-sizing: border-box\;">Bonham&nbsp\;Theatre</li>\n	</ul>\n	</li>\n	<li style="box-sizing: border-box\;"><a href="https://www.facebook.com/events/287160125247387/" style="box-sizing: border-box\; background-color: transparent\; color: rgb(80\, 132\, 13)\; text-decoration-line: none\;">Cookie Decoration</a>&nbsp\;at 3pm\n	<ul style="box-sizing: border-box\; margin-top: 0px\; margin-bottom: 0px\; list-style-type: disc\;">\n		<li style="box-sizing: border-box\;">Eagle Inn&nbsp\;</li>\n	</ul>\n	</li>\n	<li style="box-sizing: border-box\;"><a href="https://www.facebook.com/events/2048084205482004/" style="box-sizing: border-box\; background-color: transparent\; color: rgb(80\, 132\, 13)\; text-decoration-line: none\;">Store Wide Holiday Sale!</a>&nbsp\;- 10am-6pm\n	<ul style="box-sizing: border-box\; margin-top: 0px\; margin-bottom: 0px\; list-style-type: disc\;">\n		<li style="box-sizing: border-box\;">Cameo Antique Mall</li>\n	</ul>\n	</li>\n	<li style="box-sizing: border-box\;">Hot Coco &amp\; Cookies - Noon-4pm\n	<ul style="box-sizing: border-box\; margin-top: 0px\; margin-bottom: 0px\; list-style-type: disc\;">\n		<li style="box-sizing: border-box\;">Sauk City Riverfront Plaza</li>\n	</ul>\n	</li>\n	<li style="box-sizing: border-box\;"><a href="https://www.facebook.com/events/1039204386279457/" style="box-sizing: border-box\; background-color: transparent\; color: rgb(80\, 132\, 13)\; text-decoration-line: none\;">Rummage Sale with Hot Coco &amp\; Cookies</a>\n	<ul style="box-sizing: border-box\; margin-top: 0px\; margin-bottom: 0px\; list-style-type: disc\;">\n		<li style="box-sizing: border-box\;">Sauk City Library</li>\n	</ul>\n	</li>\n	<li style="box-sizing: border-box\;"><a href="https://www.facebook.com/events/192106888343196/" style="box-sizing: border-box\; background-color: transparent\; color: rgb(80\, 132\, 13)\; text-decoration-line: none\;">Needlefelt Christmas Ornaments</a>&nbsp\;from 10am-3pm\n	<ul style="box-sizing: border-box\; margin-top: 0px\; margin-bottom: 0px\; list-style-type: disc\;">\n		<li style="box-sizing: border-box\;">DMarie Knit &amp\; Fiber</li>\n	</ul>\n	</li>\n	<li style="box-sizing: border-box\;"><a href="https://www.facebook.com/events/312152809382950/" style="box-sizing: border-box\; background-color: transparent\; color: rgb(80\, 132\, 13)\; text-decoration-line: none\;">Pet selfies with Santa</a>&nbsp\;from 2-4pm\n	<ul style="box-sizing: border-box\; margin-top: 0px\; margin-bottom: 0px\; list-style-type: disc\;">\n		<li style="box-sizing: border-box\;">Sauk City Riverfront Plaza</li>\n	</ul>\n	</li>\n	<li style="box-sizing: border-box\;"><a href="https://www.facebook.com/events/368799656999195/" style="box-sizing: border-box\; background-color: transparent\; color: rgb(80\, 132\, 13)\; text-decoration-line: none\;">Harpist Karen Atz with Tea\, Hot Coco\, and Cookies</a>&nbsp\;from 2-3pm\n	<ul style="box-sizing: border-box\; margin-top: 0px\; margin-bottom: 0px\; list-style-type: disc\;">\n		<li style="box-sizing: border-box\;">The Pines Senior Living</li>\n	</ul>\n	</li>\n	<li style="box-sizing: border-box\;">Pine Cone Decorating from 10:00am-12:30pm\n	<ul style="box-sizing: border-box\; margin-top: 0px\; margin-bottom: 0px\; list-style-type: disc\;">\n		<li style="box-sizing: border-box\;">Maplewood of Sauk Prairie</li>\n	</ul>\n	</li>\n	<li style="box-sizing: border-box\;"><a href="https://www.facebook.com/events/317277555527912/" style="box-sizing: border-box\; background-color: transparent\; color: rgb(80\, 132\, 13)\; text-decoration-line: none\;">Bowling with Santa</a>&nbsp\;from 2-5pm\n	<ul style="box-sizing: border-box\; margin-top: 0px\; margin-bottom: 0px\; list-style-type: disc\;">\n		<li style="box-sizing: border-box\;">Riviera Bowl</li>\n	</ul>\n	</li>\n	<li style="box-sizing: border-box\;">Open House\n	<ul style="box-sizing: border-box\; margin-top: 0px\; margin-bottom: 0px\; list-style-type: disc\;">\n		<li style="box-sizing: border-box\;">Rainbow Floral</li>\n	</ul>\n	</li>\n	<li style="box-sizing: border-box\;"><a href="https://www.facebook.com/events/193256034914807/" style="box-sizing: border-box\; background-color: transparent\; color: rgb(80\, 132\, 13)\; text-decoration-line: none\;">Polish Changes</a>&nbsp\;from 11:30am-1pm\n	<ul style="box-sizing: border-box\; margin-top: 0px\; margin-bottom: 0px\; list-style-type: disc\;">\n		<li style="box-sizing: border-box\;">Cloud Nine Day Spa &amp\; Salon</li>\n	</ul>\n	</li>\n	<li style="box-sizing: border-box\;">Open House with Hot Cocoa\n	<ul style="box-sizing: border-box\; margin-top: 0px\; margin-bottom: 0px\; list-style-type: disc\;">\n		<li style="box-sizing: border-box\;">McFarlane&#39\;s</li>\n	</ul>\n	</li>\n	<li style="box-sizing: border-box\;"><a href="https://www.facebook.com/events/1897745926946570/" style="box-sizing: border-box\; background-color: transparent\; color: rgb(80\, 132\, 13)\; text-decoration-line: none\;">Holiday Light Parade &amp\; Fireworks Extravaganza!&nbsp\;</a></li>\n</ul>\n\n<p style="box-sizing: border-box\; margin: 0px 0px 10px\; font-size: 16px\; color: rgb(63\, 63\, 63)\; font-family: Arial\, &quot\;Helvetica Neue&quot\;\, Helvetica\, sans-serif\;">&nbsp\;</p>\n\n<p style="box-sizing: border-box\; margin: 0px 0px 10px\; font-size: 16px\; color: rgb(63\, 63\, 63)\; font-family: Arial\, &quot\;Helvetica Neue&quot\;\, Helvetica\, sans-serif\;"><strong style="box-sizing: border-box\;">Join us for a pre-parade program at GraceWay Church starting at 5:00 pm.&nbsp\; Hot cocoa is provided while you enjoy music and dance performances.&nbsp\;</strong></p>\n
LOCATION:Sauk Prairie
UID:e.1184.20503
SEQUENCE:3
DTSTAMP:20260424T004211Z
URL:http://members.saukprairie.com/events/details/holly-jolly-sauk-prairie-20503
END:VEVENT

END:VCALENDAR
