BEGIN:VCALENDAR
VERSION:2.0
PRODID:-//ChamberMaster//Event Calendar 2.0//EN
METHOD:PUBLISH
X-PUBLISHED-TTL:P3D
REFRESH-INTERVAL:P3D
CALSCALE:GREGORIAN
BEGIN:VEVENT
DTSTART;VALUE=DATE:20191214
DTEND;VALUE=DATE:20191215
TRANSP:TRANSPARENT
X-MICROSOFT-CDO-ALLDAYEVENT:TRUE
SUMMARY:Holly Jolly Sauk Prairie
DESCRIPTION:Details to come...
X-ALT-DESC;FMTTYPE=text/html:<h3 style="box-sizing: border-box\; font-family: Arial\, &quot\;Helvetica Neue&quot\;\, Helvetica\, sans-serif\; font-weight: bold\; line-height: 1.1\; margin-top: 20px\; margin-bottom: 10px\; font-size: 1.5rem\; font-style: italic\;"><font color="#800000">Details to come...</font></h3>\n
LOCATION:Sauk Prairie
UID:e.1184.22240
SEQUENCE:3
DTSTAMP:20260423T070606Z
URL:http://members.saukprairie.com/events/details/holly-jolly-sauk-prairie-22240
END:VEVENT

END:VCALENDAR
