BEGIN:VCALENDAR
VERSION:2.0
PRODID:-//ChamberMaster//Event Calendar 2.0//EN
METHOD:PUBLISH
X-PUBLISHED-TTL:P3D
REFRESH-INTERVAL:P3D
CALSCALE:GREGORIAN
BEGIN:VEVENT
DTSTART;VALUE=DATE:20201204
DTEND;VALUE=DATE:20201207
TRANSP:TRANSPARENT
X-MICROSOFT-CDO-ALLDAYEVENT:TRUE
SUMMARY:Holly Jolly Sauk Prairie
DESCRIPTION:With COVID\, we understand that events and promotions need to look a little different this year\, but we invite the community to join in on our safe\, socially distanced Holly Jolly weekend on December 4th   6th.\n\n\n\nHolly Jolly weekend kicks off with a candlelight hike on Friday\, December 4th from 6   8 pm\,  continues through Saturday with safe holiday pick up activities for the family\, and scavenger hunts throughout the community. If you are shopping\, be sure to download our Local-Opoly board and support local business while having the ability to win $250 for each area of real estate you support.  Finish the weekend out with safe bowling (socially distanced) and food specials\, while supporting The RIV and the Sauk Prairie Area Food Pantry.  While things must change this year\, that doesn't mean the holiday spirit and fun can't continue in Sauk Prairie.  Visit https://www.saukprairie.com/holly-jolly-sauk-prairie to learn more about Holly Jolly weekend festivities.  On behalf of the chamber and our board of directors\, we wish you and your family a very Merry Christmas and Happy New Year!
X-ALT-DESC;FMTTYPE=text/html:<h3 style="box-sizing: border-box\; font-family: Arial\, &quot\;Helvetica Neue&quot\;\, Helvetica\, sans-serif\; font-weight: bold\; line-height: 1.1\; margin-top: 20px\; margin-bottom: 10px\; font-size: 1.5rem\; font-style: italic\;"><span style="font-size:18px\;">With COVID\, we understand that events and promotions need to look a little different this year\, but we invite the community to join in on our safe\, socially distanced Holly Jolly weekend on December 4<sup>th</sup> &ndash\; 6<sup>th</sup>.<br />\n<br />\nHolly Jolly weekend kicks off with a candlelight hike on Friday\, December 4<sup>th</sup> from 6 &ndash\; 8 pm\, &nbsp\;continues through Saturday with safe holiday pick up activities for the family\, and scavenger hunts throughout the community. If you are shopping\, be sure to download our Local-Opoly board and support local business while having the ability to win $250 for each area of real estate you support.&nbsp\; Finish the weekend out with safe bowling (socially distanced) and food specials\, while supporting The RIV and the Sauk Prairie Area Food Pantry.&nbsp\; While things must change this year\, that doesn&rsquo\;t mean the holiday spirit and fun can&rsquo\;t continue in Sauk Prairie.&nbsp\; Visit <a href="https://www.saukprairie.com/holly-jolly-sauk-prairie">https://www.saukprairie.com/holly-jolly-sauk-prairie</a> to learn more about Holly Jolly weekend festivities.&nbsp\; On behalf of the chamber and our board of directors\, we wish you and your family a very Merry Christmas and Happy New Year!</span></h3>\n
LOCATION:Sauk Prairie
UID:e.1184.24059
SEQUENCE:3
DTSTAMP:20260422T134102Z
URL:http://members.saukprairie.com/events/details/holly-jolly-sauk-prairie-24059
END:VEVENT

END:VCALENDAR
