BEGIN:VCALENDAR
VERSION:2.0
PRODID:-//ChamberMaster//Event Calendar 2.0//EN
METHOD:PUBLISH
X-PUBLISHED-TTL:P3D
REFRESH-INTERVAL:P3D
CALSCALE:GREGORIAN
BEGIN:VEVENT
DTSTART;VALUE=DATE:20211204
DTEND;VALUE=DATE:20211205
TRANSP:TRANSPARENT
X-MICROSOFT-CDO-ALLDAYEVENT:TRUE
SUMMARY:Holly Jolly Sauk Prairie
DESCRIPTION:6:8 Inc.: 9am-3pm\, $1-$5 shop\, Handmade Christmas Ornaments & Jewelry made in Haiti (Friday 9am-Noon and Saturday 9am-3pm) Face/hand paintings\, Buy a "to-go" lunch\, Enjoy Fizzy-Lifting Drink & Popcorn\, Watch a FREE showing of the 1971 Film Willy Wonka and the Chocolate Factory\n	Antique Tap: 10am-Close\, Fizzy Lifting Drink Station\n	Bonham Theater & Video: 11am & 2pm Willy Wonka Showings FREE with a Food Pantry Donation!\n	C2 Juicery at RE/MAX Grand: Purchase 4 or more juices get a FREE Koozie!\n	Cameo Antique Mall: 9am-5pm Storewide Sale (15-70% OFF)\, Featuring displays with candy tins\, chocolate tins\, cookie cutters\, candy colored glass\, ornaments\, and other Wonka themed displays.\n	Consumers Cooperative: Cotton Candy Station from 10am-2:30pm at both Cenex locations\n	First Weber: 11am-2pm\, Candy Bracelet Station\, Winter Character Meet & Greet\, Sell Willy Wonka Bars\n	Flaxen Fleece: 9am-5pm Storewide Sales\, Premade Kits\, Fun novelty items\n	Freedom Family Chiropractic: 8:30am-Noon Oompa Loompa Photo\, Cotton Candy & Candyland Ornament Stations\n	Free Congregation of Sauk County: 7pm\, Holiday Concert Shawndell Marks\n	Green Acres Restaurant: Opens at 4pm\, $2 off Martini Menu\n	Home by Hayley/Light of Love: 9am-3pm\, Shop Holiday Gifts & Decor\, DIY Project\n	John Joseph Coffee: 8am-2pm\, Hot Chocolate Station and FREE Drinks!\n	Kirk Graves & Nugent: 8:30am-11am\, Oompa Loompa Photo & Hot Chocolate Stations \n	La Mexicana: Candyland Ornament (11am-3pm) & Hot Chocolate (9am-11am) Stations\, Drink all Day!\n	LAF Boutique: Santa & Mrs. Clause with Hot Chocolate Bar out Back (weather permitting) from 10am-4pm\n	McFarlanes' Retail & Service Center: 10am-1pm\, Mini Carnival Games\, Cotton Candy\n	Milio's Sandwiches: Gobstobber Scratch Off's\n	Prairie du Sac Fire Dept.: 7-10:30am Pancake Breakfast \n	RE/MAX Grand: 11am-2pm\, Christmas Pop-Up Shop feat. C2 Juicery and Loose Boards\n	ReTwist-T: 9am-3pm Wonka Wand Coloring Page\n	River Arts Inc.: 9am-4pm  Mystery Candy Box\, Fizzy Drinks\, Snow Globe Contest\, Holiday Market\n	Riviera Bowl: 11am-5pm\, Oompa Loompa Photo Station\, Charlie & the Chocolate Factory on the Big Screens above the Lanes.\n	Ruth Culver Community Library: 9am-3pm for bag/kit pick-up and scavenger hunt \n	Sauk Prairie Area Historical Society: 11am-1pm Santa & Mr.s Claus in a Sleigh and drop off "wish list" Letters to send to the North Pole.\n	Sauk Prairie Area Chamber of Commerce: 8am-3pm Craft Vendor Show\, Make Your Own Calming Bath Salts or Holiday Room Spray provided by Navigate Essentials\n	Schoepp's Cottonwood Resort\, LLC\n	SP Fitness Group: Photobooth\, 7 am $5 fitness Class\; 9-2pm SP Business Square Event: Gift Card Specials\, Raffles\, Photobooth. Vendors include: SP Fitness & Nutrition\, Zenfully Yours\, Back to Neutral\, LulaRoe\, Zyia Athleticwear\, Pampered Chef\, and additional Christmas Goodies available. Chili Cook-Off & Fizzy Lifting Drink Station\n	St. Vincent de Paul: 9am-2pm Gobstopper Scratch Offs\n	The Body Shop of Sauk Prairie: 8am Free Mat Class\n	The Mixing Bowl Bakery: 8am-12pm\, "Cookie decorating with Santa"  1 free sugar or gingerbread cookie per child to decorate for free\n	Unfolded: 10am-4pm Wonka Bar Stop\n	Village Pub/Bar Buddies Sauk Prairie: Fizzy Lifting Drinks\, Free Boozy Basket Drawing\, Swag Giveaways!\n	Vintage Brewing Co.: 11am-10pm\, Drop off a personal care item for us to donate to Sauk Prairie Area Food Pantry and you will receive a drink chip for a beer or soda.  Chili Cook-Off & Fizzy Lifting Drink Station\, 2-3:30pm\, Free Face Painting by Angelique with Antsy Pants Painting.
X-ALT-DESC;FMTTYPE=text/html:<ul style="box-sizing: border-box\; margin-top: 0px\; margin-bottom: 0px\; color: rgb(0\, 89\, 143)\; font-family: Arial\, &quot\;Helvetica Neue&quot\;\, Helvetica\, sans-serif\; font-size: 16px\;">\n	<li style="box-sizing: border-box\;"><a href="https://www.facebook.com/events/1132182650643442" style="box-sizing: border-box\; background-color: transparent\; color: rgb(80\, 132\, 13)\; text-decoration-line: none\;"><b style="box-sizing: border-box\;">6:8 Inc.</b></a>: 9am-3pm\, $1-$5 shop\, Handmade Christmas Ornaments &amp\; Jewelry made in Haiti (Friday 9am-Noon and Saturday 9am-3pm) Face/hand paintings\,&nbsp\;Buy a &quot\;to-go&quot\; lunch\,&nbsp\;Enjoy Fizzy-Lifting Drink &amp\; Popcorn\, Watch a FREE showing of the 1971 Film Willy Wonka and the Chocolate Factory</li>\n	<li style="box-sizing: border-box\;"><b style="box-sizing: border-box\;">Antique Tap:&nbsp\;</b>10am-Close\,<b style="box-sizing: border-box\;">&nbsp\;</b>Fizzy Lifting Drink Station</li>\n	<li style="box-sizing: border-box\;"><b style="box-sizing: border-box\;">Bonham Theater &amp\; Video:&nbsp\;</b>11am &amp\; 2pm Willy Wonka Showings&nbsp\;FREE with a Food Pantry Donation!</li>\n	<li style="box-sizing: border-box\;"><strong style="box-sizing: border-box\;">C2 Juicery at RE/MAX Grand:</strong>&nbsp\;Purchase 4 or more juices get a FREE Koozie!</li>\n	<li style="box-sizing: border-box\;"><b style="box-sizing: border-box\;">Cameo Antique Mall:&nbsp\;</b>9am-5pm&nbsp\;Storewide Sale (15-70% OFF)\,&nbsp\;Featuring displays with candy tins\, chocolate tins\, cookie cutters\, candy colored glass\, ornaments\, and other Wonka themed displays.</li>\n	<li style="box-sizing: border-box\;"><b style="box-sizing: border-box\;">Consumers Cooperative:&nbsp\;</b>Cotton Candy Station from 10am-2:30pm at both Cenex locations</li>\n	<li style="box-sizing: border-box\;"><b style="box-sizing: border-box\;">First Weber:&nbsp\;</b>11am-2pm\,&nbsp\;Candy Bracelet Station\, Winter Character Meet &amp\; Greet\, Sell Willy Wonka Bars</li>\n	<li style="box-sizing: border-box\;"><b style="box-sizing: border-box\;"><a href="https://www.facebook.com/events/1152093761987262" style="box-sizing: border-box\; background-color: transparent\; color: rgb(80\, 132\, 13)\; text-decoration-line: none\;">Flaxen Fleece:</a>&nbsp\;</b>9am-5pm<b style="box-sizing: border-box\;">&nbsp\;</b>Storewide Sales\, Premade Kits\, Fun novelty items</li>\n	<li style="box-sizing: border-box\;"><b style="box-sizing: border-box\;"><a href="https://fb.me/e/272ifDpjy" style="box-sizing: border-box\; background-color: transparent\; color: rgb(80\, 132\, 13)\; text-decoration-line: none\;">Freedom Family Chiropractic:</a>&nbsp\;</b>8:30am-Noon<b style="box-sizing: border-box\;">&nbsp\;</b>Oompa Loompa Photo\, Cotton Candy &amp\; Candyland Ornament Stations</li>\n	<li style="box-sizing: border-box\;"><strong style="box-sizing: border-box\;"><a href="https://www.facebook.com/events/564456664614473" style="box-sizing: border-box\; background-color: transparent\; color: rgb(80\, 132\, 13)\; text-decoration-line: none\;">Free Congregation of Sauk County</a>:</strong>&nbsp\;7pm\, Holiday Concert Shawndell Marks</li>\n	<li style="box-sizing: border-box\;"><b style="box-sizing: border-box\;"><a href="https://www.facebook.com/events/873199406669401" style="box-sizing: border-box\; background-color: transparent\; color: rgb(80\, 132\, 13)\; text-decoration-line: none\;">Green Acres Restaurant:</a>&nbsp\;</b>Opens at 4pm\, $2 off Martini&nbsp\;Menu</li>\n	<li style="box-sizing: border-box\;"><b style="box-sizing: border-box\;">Home by Hayley/Light of Love:&nbsp\;</b>9am-3pm\, Shop Holiday Gifts &amp\; Decor\, DIY Project</li>\n	<li style="box-sizing: border-box\;"><b style="box-sizing: border-box\;">John Joseph Coffee:&nbsp\;</b>8am-2pm\,<b style="box-sizing: border-box\;">&nbsp\;</b>Hot Chocolate Station and FREE Drinks!</li>\n	<li style="box-sizing: border-box\;"><b style="box-sizing: border-box\;">Kirk Graves &amp\; Nugent:&nbsp\;</b>8:30am-11am\,&nbsp\;Oompa Loompa Photo &amp\;&nbsp\;Hot Chocolate Stations&nbsp\;</li>\n	<li style="box-sizing: border-box\;"><b style="box-sizing: border-box\;">La Mexicana:&nbsp\;</b>Candyland Ornament (11am-3pm) &amp\; Hot Chocolate (9am-11am) Stations\, Drink all Day!</li>\n	<li style="box-sizing: border-box\;"><b style="box-sizing: border-box\;">LAF Boutique:&nbsp\;</b>Santa &amp\; Mrs. Clause with Hot Chocolate Bar out Back (weather permitting) from 10am-4pm</li>\n	<li style="box-sizing: border-box\;"><b style="box-sizing: border-box\;">McFarlanes&rsquo\; Retail &amp\; Service Center:&nbsp\;</b>10am-1pm\,<b style="box-sizing: border-box\;">&nbsp\;</b>Mini Carnival Games\, Cotton Candy</li>\n	<li style="box-sizing: border-box\;"><b style="box-sizing: border-box\;">Milio&#39\;s Sandwiches:&nbsp\;</b>Gobstobber Scratch Off&#39\;s</li>\n	<li style="box-sizing: border-box\;"><b style="box-sizing: border-box\;"><a href="https://fb.me/e/YMYAFAnP" style="box-sizing: border-box\; background-color: transparent\; color: rgb(80\, 132\, 13)\; text-decoration-line: none\;">Prairie du Sac Fire Dept.</a>:&nbsp\;</b>7-10:30am Pancake Breakfast&nbsp\;</li>\n	<li style="box-sizing: border-box\;"><b style="box-sizing: border-box\;">RE/MAX Grand:&nbsp\;</b>11am-2pm\,<b style="box-sizing: border-box\;">&nbsp\;</b>Christmas Pop-Up Shop feat. C2 Juicery and Loose Boards</li>\n	<li style="box-sizing: border-box\;"><b style="box-sizing: border-box\;">ReTwist-T:&nbsp\;</b>9am-3pm Wonka Wand Coloring Page</li>\n	<li style="box-sizing: border-box\;"><a href="https://fb.me/e/T67uO4UE" style="box-sizing: border-box\; background-color: transparent\; color: rgb(80\, 132\, 13)\; text-decoration-line: none\;"><b style="box-sizing: border-box\;">River Arts Inc.</b></a>: 9am-4pm&nbsp\; Mystery Candy Box\, Fizzy Drinks\, Snow Globe Contest\, Holiday Market</li>\n	<li style="box-sizing: border-box\;"><b style="box-sizing: border-box\;">Riviera Bowl:&nbsp\;</b>11am-5pm\,<b style="box-sizing: border-box\;">&nbsp\;</b>Oompa Loompa Photo Station\, Charlie &amp\; the Chocolate Factory on the Big Screens above the Lanes.</li>\n	<li style="box-sizing: border-box\;"><b style="box-sizing: border-box\;">Ruth Culver Community Library:&nbsp\;</b>9am-3pm for bag/kit pick-up and scavenger hunt&nbsp\;</li>\n	<li style="box-sizing: border-box\;"><b style="box-sizing: border-box\;"><a href="https://www.facebook.com/events/575859620370152" style="box-sizing: border-box\; background-color: transparent\; color: rgb(80\, 132\, 13)\; text-decoration-line: none\;">Sauk Prairie Area Historical Society:</a>&nbsp\;</b>11am-1pm Santa &amp\; Mr.s Claus in a Sleigh and drop off &quot\;wish list&quot\; Letters to send to the North Pole.</li>\n	<li style="box-sizing: border-box\;"><b style="box-sizing: border-box\;"><a href="https://www.facebook.com/events/897791890871760" style="box-sizing: border-box\; background-color: transparent\; color: rgb(80\, 132\, 13)\; text-decoration-line: none\;">Sauk Prairie Area Chamber of Commerce</a>:&nbsp\;</b>8am-3pm<b style="box-sizing: border-box\;">&nbsp\;</b>Craft Vendor Show\,&nbsp\;Make Your Own Calming Bath Salts or Holiday Room Spray provided by Navigate Essentials</li>\n	<li style="box-sizing: border-box\;"><b style="box-sizing: border-box\;">Schoepp&#39\;s Cottonwood Resort\, LLC</b></li>\n	<li style="box-sizing: border-box\;"><b style="box-sizing: border-box\;"><a href="https://fb.me/e/3oFyPy7H1" style="box-sizing: border-box\; background-color: transparent\; color: rgb(80\, 132\, 13)\; text-decoration-line: none\;">SP Fitness Group</a>:&nbsp\;</b>Photobooth\, 7 am $5 fitness Class\; 9-2pm SP Business Square Event: Gift Card Specials\, Raffles\, Photobooth. Vendors include: SP Fitness &amp\; Nutrition\, Zenfully Yours\, Back to Neutral\, LulaRoe\, Zyia Athleticwear\, Pampered Chef\, and additional Christmas Goodies available.&nbsp\;Chili Cook-Off &amp\; Fizzy Lifting Drink Station</li>\n	<li style="box-sizing: border-box\;"><b style="box-sizing: border-box\;">St. Vincent de Paul:&nbsp\;</b>9am-2pm Gobstopper Scratch Offs</li>\n	<li style="box-sizing: border-box\;"><b style="box-sizing: border-box\;">The Body Shop of Sauk Prairie:&nbsp\;</b>8am&nbsp\;Free Mat Class</li>\n	<li style="box-sizing: border-box\;"><strong style="box-sizing: border-box\;">The Mixing Bowl Bakery:</strong>&nbsp\;8am-12pm\, &quot\;Cookie decorating with Santa&quot\;&nbsp\; 1 free sugar or gingerbread cookie per child to decorate for free</li>\n	<li style="box-sizing: border-box\;"><a href="https://www.facebook.com/events/925638278068728/" style="box-sizing: border-box\; background-color: transparent\; color: rgb(80\, 132\, 13)\; text-decoration-line: none\;"><b style="box-sizing: border-box\;">Unfolded</b></a>: 10am-4pm Wonka Bar Stop</li>\n	<li style="box-sizing: border-box\;"><b style="box-sizing: border-box\;">Village Pub/<b style="box-sizing: border-box\;">Bar Buddies Sauk Prairie:&nbsp\;</b></b>Fizzy Lifting Drinks\, Free Boozy Basket Drawing\, Swag&nbsp\;Giveaways!</li>\n	<li style="box-sizing: border-box\;"><b style="box-sizing: border-box\;">Vintage Brewing Co.:&nbsp\;</b>11am-10pm\,&nbsp\;Drop off a personal care item for us to donate to Sauk Prairie Area Food Pantry and you will receive&nbsp\;a drink chip for a beer or soda.&nbsp\;&nbsp\;Chili Cook-Off &amp\; Fizzy Lifting Drink Station\, 2-3:30pm\,&nbsp\;Free Face Painting by Angelique with Antsy Pants Painting.&nbsp\;</li>\n</ul>\n
LOCATION:Sauk Prairie
UID:e.1184.26440
SEQUENCE:3
DTSTAMP:20260421T190528Z
URL:http://members.saukprairie.com/events/details/holly-jolly-sauk-prairie-26440
END:VEVENT

END:VCALENDAR
