BEGIN:VCALENDAR
VERSION:2.0
PRODID:-//ChamberMaster//Event Calendar 2.0//EN
METHOD:PUBLISH
X-PUBLISHED-TTL:P3D
REFRESH-INTERVAL:P3D
CALSCALE:GREGORIAN
BEGIN:VEVENT
DTSTART;VALUE=DATE:20221203
DTEND;VALUE=DATE:20221204
TRANSP:TRANSPARENT
X-MICROSOFT-CDO-ALLDAYEVENT:TRUE
SUMMARY:Holly Jolly Sauk Prairie
DESCRIPTION:"It's A Wonderful Life" old Towne experience in Sauk Prairie. Holiday-themed events for every member of the family.\n\n\n\nClick here for full details.
X-ALT-DESC;FMTTYPE=text/html:&ldquo\;<em>It&rsquo\;s A Wonderful Life</em>&rdquo\; old Towne experience in Sauk Prairie. Holiday-themed events for every member of the family.<br />\n<br />\n<a href="https://www.saukprairie.com/holly-jolly">Click here for full details.</a>
LOCATION:Sauk Prairie
UID:e.1184.27133
SEQUENCE:3
DTSTAMP:20260421T015909Z
URL:http://members.saukprairie.com/events/details/holly-jolly-sauk-prairie-27133
END:VEVENT

END:VCALENDAR
