BEGIN:VCALENDAR
VERSION:2.0
PRODID:-//ChamberMaster//Event Calendar 2.0//EN
METHOD:PUBLISH
X-PUBLISHED-TTL:P3D
REFRESH-INTERVAL:P3D
CALSCALE:GREGORIAN
BEGIN:VEVENT
DTSTART:20171203T210000Z
DTEND:20171203T230000Z
X-MICROSOFT-CDO-ALLDAYEVENT:FALSE
SUMMARY:Holly Jolly Smörgåsbord with Inga
DESCRIPTION:Join Wisconsin Public Television's Inga Witscher\, host of "Around the Farm Table" for what's sure to be an afternoon of outright laughter\, head-shaking stories\, and honest-to-goodness Wisconsin food. What's Inga dreaming up this time? A Sm rg sbord!! She'll have guests diving into Scandinavian delights with a Wisconsin twist. Come enjoy a culinary road trip with Inga just in time to inspire your own Holiday cooking. (And see the Tripp's vintage Santa's workshop toy display\, too!) Tickets are available at https://farmjolly.brownpapertickets.com/ or by phoning the Tripp Museum at (608) 644-8444. Priced at $10 each\, tickets include a seated place for the limited-space live cooking demo and free holiday-themed nibbles. Wine and hot wassail will be available for sale.
X-ALT-DESC;FMTTYPE=text/html:Join Wisconsin Public Television&#39\;s Inga Witscher\, host of &quot\;Around the Farm Table&quot\; for what&#39\;s sure to be an afternoon of outright laughter\, head-shaking stories\, and honest-to-goodness Wisconsin food. What&#39\;s Inga dreaming up this time? A Sm&ouml\;rg&aring\;sbord!! She&#39\;ll have guests diving into Scandinavian delights with a Wisconsin twist. Come enjoy a culinary road trip with Inga just in time to inspire your own Holiday cooking. (And see the Tripp&#39\;s vintage Santa&#39\;s workshop toy display\, too!) Tickets are available at https://farmjolly.brownpapertickets.com/ or by phoning the Tripp Museum at (608) 644-8444. Priced at $10 each\, tickets include a seated place for the limited-space live cooking demo and free holiday-themed nibbles. Wine and hot wassail will be available for sale.
LOCATION:Tripp Heritage Museum 565 Water St. Prairie du Sac
UID:e.1184.14101
SEQUENCE:3
DTSTAMP:20260424T205356Z
URL:http://members.saukprairie.com/events/details/holly-jolly-sm&#246;rg&#229;sbord-with-inga-14101
END:VEVENT

END:VCALENDAR
