BEGIN:VCALENDAR
VERSION:2.0
PRODID:-//ChamberMaster//Event Calendar 2.0//EN
METHOD:PUBLISH
X-PUBLISHED-TTL:P3D
REFRESH-INTERVAL:P3D
CALSCALE:GREGORIAN
BEGIN:VEVENT
DTSTART:20190410T220000Z
DTEND:20190411T000000Z
X-MICROSOFT-CDO-ALLDAYEVENT:FALSE
SUMMARY:Home Buyer's Seminar
DESCRIPTION:Looking for your dream home?\n\n\n\nJoin agents from RE/MAX Grand and lenders from the Bank of Prairie Du Sac to learn everything you need to know about the home buying process! \n\n\n\nWe'll be on hand to discuss topics like: \n\n Buying Timeline & Process\n\n Contingencies\n\n Parties Involved\n\n Financing Options & Requirements\n\n Loan Process & Timeline \n\n\n\nAgents will be able to pull a list of available properties and set you up on automatic alerts so you don't miss your dream home in this hot market!\n\n\n\nSnacks\, soda\, and water will be provided. Stop by and see us at RE/MAX Grand Sauk Prairie from 5-7pm! \n\n\n\n\n\n--\n\n\n\nBank of Prairie du Sac NMLS# 673057. Equal Housing Lender. Bank of Prairie du Sac lends without regard to race\, color\, religion\, national origin\, sex\, handicap\, or familial status. Member FDIC.
X-ALT-DESC;FMTTYPE=text/html:<span style="color:rgb(29\, 33\, 41)\; font-family:system-ui\,-apple-system\,system-ui\,.sfnstext-regular\,sans-serif\; font-size:14px">Looking for your dream home?</span><br />\n<br />\n<span style="color:rgb(29\, 33\, 41)\; font-family:system-ui\,-apple-system\,system-ui\,.sfnstext-regular\,sans-serif\; font-size:14px">Join agents from RE/MAX Grand and lenders from the Bank of Prairie Du Sac to learn everything you need to know about the home buying process! </span><br />\n<br />\n<span style="color:rgb(29\, 33\, 41)\; font-family:system-ui\,-apple-system\,system-ui\,.sfnstext-regular\,sans-serif\; font-size:14px">We&#39\;ll be on hand to discuss topics like: </span><br />\n<span style="color:rgb(29\, 33\, 41)\; font-family:system-ui\,-apple-system\,system-ui\,.sfnstext-regular\,sans-serif\; font-size:14px">&gt\;Buying Timeline &amp\; Process</span><br />\n<span style="color:rgb(29\, 33\, 41)\; font-family:system-ui\,-apple-system\,system-ui\,.sfnstext-regular\,sans-serif\; font-size:14px">&gt\;Contingencies</span><br />\n<span style="color:rgb(29\, 33\, 41)\; font-family:system-ui\,-apple-system\,system-ui\,.sfnstext-regular\,sans-serif\; font-size:14px">&gt\;Parties Involved</span><br />\n<span style="color:rgb(29\, 33\, 41)\; font-family:system-ui\,-apple-system\,system-ui\,.sfnstext-regular\,sans-serif\; font-size:14px">&gt\;Financing Options &amp\; Requirements</span><br />\n<span style="color:rgb(29\, 33\, 41)\; font-family:system-ui\,-apple-system\,system-ui\,.sfnstext-regular\,sans-serif\; font-size:14px">&gt\;Loan Process &amp\; Timeline </span><br />\n<br />\n<span style="color:rgb(29\, 33\, 41)\; font-family:system-ui\,-apple-system\,system-ui\,.sfnstext-regular\,sans-serif\; font-size:14px">Agents will be able to pull a list of available properties and set you up on automatic alerts so you don&#39\;t miss your dream home in this hot market!</span><br />\n<br />\n<span style="color:rgb(29\, 33\, 41)\; font-family:system-ui\,-apple-system\,system-ui\,.sfnstext-regular\,sans-serif\; font-size:14px">Snacks\, soda\, and water will be provided. Stop by and see us at RE/MAX Grand Sauk Prairie from 5-7pm! </span><br />\n<br />\n<br />\n<span style="color:rgb(29\, 33\, 41)\; font-family:system-ui\,-apple-system\,system-ui\,.sfnstext-regular\,sans-serif\; font-size:14px">--</span><br />\n<br />\n<span style="color:rgb(29\, 33\, 41)\; font-family:system-ui\,-apple-system\,system-ui\,.sfnstext-regular\,sans-serif\; font-size:14px">Bank of Prairie du Sac NMLS# 673057. Equal Housing Lender. Bank of Prairie du Sac lends without regard to race\, color\, religion\, national origin\, sex\, handicap\, or familial status. Member FDIC.</span>
LOCATION:Sauk Prairie REMAX Grand 708 Water Street\, Sauk City\, Wisconsin 53583
UID:e.1184.22163
SEQUENCE:3
DTSTAMP:20260423T185606Z
URL:http://members.saukprairie.com/events/details/home-buyer-s-seminar-22163
END:VEVENT

END:VCALENDAR
