BEGIN:VCALENDAR
VERSION:2.0
PRODID:-//ChamberMaster//Event Calendar 2.0//EN
METHOD:PUBLISH
X-PUBLISHED-TTL:P3D
REFRESH-INTERVAL:P3D
CALSCALE:GREGORIAN
BEGIN:VEVENT
DTSTART;VALUE=DATE:20161111
DTEND;VALUE=DATE:20161115
TRANSP:TRANSPARENT
X-MICROSOFT-CDO-ALLDAYEVENT:TRUE
SUMMARY:Homemade Thanksgiving Pie Sale
DESCRIPTION:Homemade Thanksgiving Pie Sale!\n\n\n\nYou make your oder - we make your pie!\n\n\n\nFlavors: Pumpkin\, Raspberry\, Blueberry\, Rhubarb\, Peach\n\n\n\nOrder online at www.makingservicepersonal.org/spah\n\n\n\nPies are $12 - Deadline to order: Monday\, November 14th.\n\nPick up pies Wednesday\, November 23rd\n\n\n\nQuestions\, call Marsha 643.4653
X-ALT-DESC;FMTTYPE=text/html:Homemade Thanksgiving Pie Sale!<br />\n<br />\nYou make your oder - we make your pie!<br />\n<br />\nFlavors: Pumpkin\, Raspberry\, Blueberry\, Rhubarb\, Peach<br />\n<br />\nOrder online at www.makingservicepersonal.org/spah<br />\n<br />\nPies are $12 - Deadline to order: Monday\, November 14th.<br />\nPick up pies Wednesday\, November 23rd<br />\n<br />\nQuestions\, call Marsha 643.4653
LOCATION:
UID:e.1184.9482
SEQUENCE:3
DTSTAMP:20260425T161151Z
URL:http://members.saukprairie.com/events/details/homemade-thanksgiving-pie-sale-9482
END:VEVENT

END:VCALENDAR
