BEGIN:VCALENDAR
VERSION:2.0
PRODID:-//ChamberMaster//Event Calendar 2.0//EN
METHOD:PUBLISH
X-PUBLISHED-TTL:P3D
REFRESH-INTERVAL:P3D
CALSCALE:GREGORIAN
BEGIN:VEVENT
DTSTART:20221004T183000Z
DTEND:20221004T193000Z
X-MICROSOFT-CDO-ALLDAYEVENT:FALSE
SUMMARY:Homeschool Meet & Greet
DESCRIPTION:We are inviting homeschool families for a casual gathering to get to know each other and your librarians. Let us know how the library can help your family with the school year. Let's chat! Games and light snacks provided.
X-ALT-DESC;FMTTYPE=text/html:We are inviting homeschool families for a casual gathering to get to know each other and your librarians. Let us know how the library can help your family with the school year. Let&#39\;s chat! Games and light snacks provided.
LOCATION:615 Phillips Blvd\, Sauk City\, WI 53583
UID:e.1184.28709
SEQUENCE:3
DTSTAMP:20260421T045715Z
URL:http://members.saukprairie.com/events/details/homeschool-meet-greet-28709
END:VEVENT

END:VCALENDAR
