BEGIN:VCALENDAR
VERSION:2.0
PRODID:-//ChamberMaster//Event Calendar 2.0//EN
METHOD:PUBLISH
X-PUBLISHED-TTL:P3D
REFRESH-INTERVAL:P3D
CALSCALE:GREGORIAN
BEGIN:VEVENT
DTSTART;VALUE=DATE:20220730
DTEND;VALUE=DATE:20220731
TRANSP:TRANSPARENT
X-MICROSOFT-CDO-ALLDAYEVENT:TRUE
SUMMARY:Honoring Our Veterans Car Cruise
DESCRIPTION:Join us for our 2nd Annual Honoring Our Veterans Car Cruise to benefit Badger Honor Flight Wisconsin!\n\n\n\nAll modern and classic cars\, trucks and bikes welcome. Participant's choice award for coolest car! \n\n\n\nLine up starts at 8am\n\nDeparture at 10am\n\nCruise fee: FREE (donations appreciated)\n\n\n\n1 Hour/33 mile Cruise from Baraboo to Devil's Head Resort in Merrimac\n\n    Restroom break and FREE individual car photos\n\n1 Hour/41miles cruise to Brewster's Lanes in Reedsburg\n\n    $15 all you can eat pizza lunch\n\n\n\nAll money raised will be donated to Badger Honor Flight Wisconsin. Serving those who served for us.
X-ALT-DESC;FMTTYPE=text/html:Join us for our 2nd Annual Honoring Our Veterans Car Cruise to benefit Badger Honor Flight Wisconsin!<br />\n<br />\nAll modern and classic cars\, trucks and bikes welcome. Participant&#39\;s choice award for coolest car!&nbsp\;<br />\n<br />\nLine up starts at 8am<br />\nDeparture at 10am<br />\nCruise fee: FREE (donations appreciated)<br />\n<br />\n1 Hour/33 mile Cruise from Baraboo to Devil&#39\;s Head Resort in Merrimac<br />\n&nbsp\;&nbsp\;&nbsp\;&nbsp\;Restroom break and FREE individual car photos<br />\n1 Hour/41miles cruise to Brewster&#39\;s Lanes in Reedsburg<br />\n&nbsp\;&nbsp\;&nbsp\;&nbsp\;$15 all you can eat pizza lunch<br />\n<br />\nAll money raised will be donated to Badger Honor Flight Wisconsin. Serving those who served for us.<br />\n&nbsp\;
LOCATION:UW Sauk County (Baraboo Campus) - 1006 Connie Road\, Baraboo
UID:e.1184.28226
SEQUENCE:3
DTSTAMP:20260421T091005Z
URL:http://members.saukprairie.com/events/details/honoring-our-veterans-car-cruise-28226
END:VEVENT

END:VCALENDAR
