BEGIN:VCALENDAR
VERSION:2.0
PRODID:-//ChamberMaster//Event Calendar 2.0//EN
METHOD:PUBLISH
X-PUBLISHED-TTL:P3D
REFRESH-INTERVAL:P3D
CALSCALE:GREGORIAN
BEGIN:VEVENT
DTSTART:20160925T210000Z
DTEND:20160926T030000Z
X-MICROSOFT-CDO-ALLDAYEVENT:FALSE
SUMMARY:Hope Sauk Prairie Suicide Prevention Walk
DESCRIPTION:When someone is hurting a community needs to learn to WALK TOGETHER.\n\n\n\nOpening Speakers - Lory Seffrood & Dr. Jasmine Zapata \n\n\n\nWalk Route: Oak\, 13th\, PF\, 9th\, to North Gym\n\n\n\nVendor Fair after WE WALK TOGETHER
X-ALT-DESC;FMTTYPE=text/html:When someone is hurting a community needs to learn to WALK TOGETHER.<br />\n<br />\nOpening Speakers - Lory&nbsp\;Seffrood&nbsp\;&amp\; Dr. Jasmine Zapata&nbsp\;<br />\n<br />\nWalk Route: Oak\,&nbsp\;13th\, PF\, 9th\, to North Gym<br />\n<br />\nVendor Fair after WE WALK TOGETHER
LOCATION:River Arts Center
UID:e.1184.9342
SEQUENCE:3
DTSTAMP:20260425T210915Z
URL:http://members.saukprairie.com/events/details/hope-sauk-prairie-suicide-prevention-walk-9342
END:VEVENT

END:VCALENDAR
