BEGIN:VCALENDAR
VERSION:2.0
PRODID:-//ChamberMaster//Event Calendar 2.0//EN
METHOD:PUBLISH
X-PUBLISHED-TTL:P3D
REFRESH-INTERVAL:P3D
CALSCALE:GREGORIAN
BEGIN:VEVENT
DTSTART:20200612T000000Z
DTEND:20200612T010000Z
X-MICROSOFT-CDO-ALLDAYEVENT:FALSE
SUMMARY:Hope Sauk Prairie - Traumatic Loss Grief Support Group
DESCRIPTION:We meet monthly to offer a safe place for traumatic loss survivors to receive support\, comfort\, understanding\, information and HOPE. \n\n"For some of us connection is survival"
X-ALT-DESC;FMTTYPE=text/html:<span style="background-color:rgb(255\, 255\, 255)\; color:rgb(29\, 33\, 41)\; font-family:helvetica\,arial\,sans-serif\; font-size:14px">We meet monthly to offer a safe place for traumatic loss survivors to receive support\, comfort\, understanding\, information and HOPE. </span><br />\n<span style="background-color:rgb(255\, 255\, 255)\; color:rgb(29\, 33\, 41)\; font-family:helvetica\,arial\,sans-serif\; font-size:14px">&quot\;For some of us connection is survival&quot\;</span>
LOCATION:6:8 inc 821 Industry Rd\, Sauk City\, WI 53583\, USA
UID:e.1184.23878
SEQUENCE:3
DTSTAMP:20260422T224925Z
URL:http://members.saukprairie.com/events/details/hope-sauk-prairie-traumatic-loss-grief-support-group-06-11-2020-23878
END:VEVENT

END:VCALENDAR
