BEGIN:VCALENDAR
VERSION:2.0
PRODID:-//ChamberMaster//Event Calendar 2.0//EN
METHOD:PUBLISH
X-PUBLISHED-TTL:P3D
REFRESH-INTERVAL:P3D
CALSCALE:GREGORIAN
BEGIN:VEVENT
DTSTART:20170924T180000Z
DTEND:20170924T200000Z
X-MICROSOFT-CDO-ALLDAYEVENT:FALSE
SUMMARY:HOPE SP Suicide Prevention Event
DESCRIPTION:Did you know that in a recent 10 year span\, 751 people in Sauk\, Columbia and Dane County have taken their lives by suicide? Join Hope Sauk Prairie on September 24th at Meyer Oak Grove Park in Sauk City from 1:00 - 3:00 as they take a moment to reflect on those we have lost\, encourage those who may be struggling and raise awareness for the local resources that are available. There will be a month long memorial path honoring the 751 individuals\, with 751 pair of shoes on display the month of September. The shoe memorial will be on display representing each life that we have lost. Statistics will be weaved through the memorial to increase awareness. Please consider donating a pair of shoes by dropping them off at the Welcome Center\, 6:8 Inc.\, or Pathway to Wellness.
X-ALT-DESC;FMTTYPE=text/html:<span style="color:#1D2129\;"><span style="font-family:times new roman\,serif\;"><span style="font-size:12.0pt\;">Did you know that in a recent 10 year span\, 751 people in Sauk\, Columbia and Dane County have taken their lives by suicide? Join <span style="background:#DCE6F8\;">Hope Sauk Prairie</span> on September 24th at Meyer Oak Grove Park in Sauk City from 1:00 - 3:00 as they take a moment to reflect on those we have lost\, encourage those who may be struggling and raise awareness for the local resources that are available. There will be a month long memorial path honoring the 751 individuals\, with 751 pair of shoes on display the month of September. The shoe memorial will be on display representing each life that we have lost. Statistics will be weaved through the memorial to increase awareness. Please consider donating a pair of shoes by dropping them off at the Welcome Center\, 6:8 Inc.\, or Pathway to Wellness.&nbsp\;</span></span></span>
LOCATION:Meyer Oak Grove Park 780 Phillips Blvd.\, Sauk City
UID:e.1184.11845
SEQUENCE:3
DTSTAMP:20260425T000225Z
URL:http://members.saukprairie.com/events/details/hope-sp-suicide-prevention-event-11845
END:VEVENT

END:VCALENDAR
