BEGIN:VCALENDAR
VERSION:2.0
PRODID:-//ChamberMaster//Event Calendar 2.0//EN
METHOD:PUBLISH
X-PUBLISHED-TTL:P3D
REFRESH-INTERVAL:P3D
CALSCALE:GREGORIAN
BEGIN:VEVENT
DTSTART:20250322T000000Z
DTEND:20250322T020000Z
X-MICROSOFT-CDO-ALLDAYEVENT:FALSE
SUMMARY:House Concert: Joyann Parker Duo
DESCRIPTION:With roots in the church and a solid foundation of musical education\, Joyann Parker found her authentic voice later in life and created her own blend of roots music that combines soul\, R&B\, gospel\, jazz and traditional blues styles. Parker has been a steadily rising star on the Midwest music scene and now brings her full range of talent as an accomplished singer\, pianist\, guitarist and songwriter to national and international stages.
X-ALT-DESC;FMTTYPE=text/html:<span style="color:rgb(0\, 0\, 0)\; font-family:arial\,helvetica\,sans-serif">With roots in the church and a solid foundation of musical education\, Joyann Parker found her authentic voice later in life and created her own blend of roots music that combines soul\, R&amp\;B\, gospel\, jazz and traditional blues styles. Parker has been a steadily rising star on the Midwest music scene and now brings her full range of talent as an accomplished singer\, pianist\, guitarist and songwriter to national and international stages.</span>
LOCATION:River Arts on Water Gallery\, 590 Water St\, downtown Prairie du Sac
UID:e.1184.34841
SEQUENCE:3
DTSTAMP:20260419T121819Z
URL:http://members.saukprairie.com/events/details/house-concert-joyann-parker-duo-34841
END:VEVENT

END:VCALENDAR
