BEGIN:VCALENDAR
VERSION:2.0
PRODID:-//ChamberMaster//Event Calendar 2.0//EN
METHOD:PUBLISH
X-PUBLISHED-TTL:P3D
REFRESH-INTERVAL:P3D
CALSCALE:GREGORIAN
BEGIN:VEVENT
DTSTART:20160910T000000Z
DTEND:20160910T020000Z
X-MICROSOFT-CDO-ALLDAYEVENT:FALSE
SUMMARY:House Concert Series: Badger Honor Flight Benefit Show
DESCRIPTION:Featuring Bob Kelter\, Marita Kelter\, Willy Walter\, and friends\, this concert will feature a wide range of musical stylings.  All funds raised at this concert benefit the Heroes For Honor Operation Wings\, raising funds to support a full Badger Honor Flight this Fall!
X-ALT-DESC;FMTTYPE=text/html:<span style="color:rgb(0\, 0\, 0)\; font-family:timesnewromanpsmt\; font-size:small">Featuring Bob Kelter\, Marita Kelter\, Willy Walter\, and friends\, this concert will feature a wide range of musical stylings.&nbsp\; All funds raised at this concert benefit the Heroes For Honor Operation Wings\, raising funds&nbsp\;to support a full Badger Honor Flight this Fall!</span>
LOCATION:River Arts on Water Gallery 590 Water St\, Prairie du Sac\, WI
UID:e.1184.8866
SEQUENCE:3
DTSTAMP:20260425T212147Z
URL:http://members.saukprairie.com/events/details/house-concert-series-badger-honor-flight-benefit-show-09-09-2016-8866
END:VEVENT

END:VCALENDAR
