BEGIN:VCALENDAR
VERSION:2.0
PRODID:-//ChamberMaster//Event Calendar 2.0//EN
METHOD:PUBLISH
X-PUBLISHED-TTL:P3D
REFRESH-INTERVAL:P3D
CALSCALE:GREGORIAN
BEGIN:VEVENT
DTSTART:20170304T010000Z
DTEND:20170304T030000Z
X-MICROSOFT-CDO-ALLDAYEVENT:FALSE
SUMMARY:House Concert Series: Black Marigold (classical)
DESCRIPTION:Black Marigold is a dynamic wind quintet that has dazzled audiences throughout Wisconsin since 2012. As advocates of new music and living composers\, they present captivating concerts introducing new music\, while also highlighting classic woodwind quintet repertoire.\n\n\n\nBlack Marigold fosters fresh perceptions of new music by showcasing pieces that are equally enjoyable for performers and audiences alike. Members of the ensemble present thoughtful verbal program notes to engage the audience and liven the concert experience.\n\n\n\nBlack Marigold breathes new life into the woodwind quintet setting\, and you will leave their concerts smarter\, happier and more inspired than when you arrived!\n\n\n\nwww.riverartsinc.org
X-ALT-DESC;FMTTYPE=text/html:<strong><strong>Black Marigold</strong>&nbsp\;</strong><span style="color:rgb(85\, 85\, 85)\; font-family:titillium web\,sans-serif\; font-size:16px">is&nbsp\;</span><span style="color:rgb(85\, 85\, 85)\; font-family:titillium web\,sans-serif\; font-size:16px">a dynamic wind quintet that has dazzled audiences throughout Wisconsin since 2012.</span><span style="color:rgb(85\, 85\, 85)\; font-family:titillium web\,sans-serif\; font-size:16px">&nbsp\;As advocates of new music and living composers\, they present captivating concerts introducing new music\, while also highlighting classic woodwind quintet repertoire.</span><br />\n<br />\n<span style="color:rgb(85\, 85\, 85)\; font-family:titillium web\,sans-serif\; font-size:16px">Black Marigold fosters fresh perceptions of new music by showcasing pieces that are equally enjoyable for performers and audiences alike. Members of the ensemble present thoughtful verbal program notes to engage the audience and liven the concert experience.</span><br />\n<br />\n<span style="color:rgb(85\, 85\, 85)\; font-family:titillium web\,sans-serif\; font-size:16px">Black Marigold breathes new life into the woodwind quintet setting\, and you will leave their concerts smarter\, happier and more inspired than when you arrived!</span><br />\n<br />\nwww.riverartsinc.org
LOCATION:River Arts on Water Gallery\, 590 Water St\, Prairie du Sac
UID:e.1184.8528
SEQUENCE:3
DTSTAMP:20260425T110238Z
URL:http://members.saukprairie.com/events/details/house-concert-series-black-marigold-classical-03-03-2017-8528
END:VEVENT

END:VCALENDAR
