BEGIN:VCALENDAR
VERSION:2.0
PRODID:-//ChamberMaster//Event Calendar 2.0//EN
METHOD:PUBLISH
X-PUBLISHED-TTL:P3D
REFRESH-INTERVAL:P3D
CALSCALE:GREGORIAN
BEGIN:VEVENT
DTSTART:20160827T000000Z
DTEND:20160827T020000Z
X-MICROSOFT-CDO-ALLDAYEVENT:FALSE
SUMMARY:House Concert Series: Cleary Breunig (music theater)
DESCRIPTION:Cleary is a 2007 Sauk Prairie High School graduate who received his BFA in Musical Theatre Performance at UW-Milwaukee in 2013.  In the summer of 2013 Cleary made his Off-Broadway debut at the Cherry Lane Theatre in NYC\, performing in Waiting\, A Song Cycle (David).  A month later he trained at the Open Jar Institute (NYC)\, a musical theater intensive taught by current Broadway professionals.  In the summer of 2014\, Cleary was invited back to the Open Jar Institute as a Teaching Assistant/Intern.  Last Fall he was contracted through Skylight Music Theatre to tour Milwaukee Public Elementary Schools teaching Music and Theatre.  Cleary's concert will include mostly music theatre selections.
X-ALT-DESC;FMTTYPE=text/html:<span style="color:rgb(0\, 0\, 0)\; font-family:arial\,sans-serif\; font-size:small">Cleary is a 2007 Sauk Prairie High School graduate who received his BFA in Musical Theatre Performance at UW-Milwaukee in 2013.&nbsp\; In the summer of 2013 Cleary made his Off-Broadway debut at the Cherry Lane Theatre in NYC\, performing in&nbsp\;</span><em>Waiting\, A Song Cycle</em><span style="color:rgb(0\, 0\, 0)\; font-family:arial\,sans-serif\; font-size:small">&nbsp\;(David).&nbsp\; A month later he trained at the Open Jar Institute (NYC)\, a musical theater intensive taught by current Broadway professionals.&nbsp\; In the summer of 2014\, Cleary was invited back to the Open Jar Institute as a Teaching Assistant/Intern.&nbsp\; Last Fall he was contracted through Skylight Music Theatre to tour Milwaukee Public Elementary Schools teaching Music and Theatre.&nbsp\; Cleary&#39\;s concert will include mostly music theatre selections.</span>
LOCATION:River Arts on Water Gallery 590 Water St. Prairie du Sac\, WI 53578
UID:e.1184.8865
SEQUENCE:3
DTSTAMP:20260425T210332Z
URL:http://members.saukprairie.com/events/details/house-concert-series-cleary-breunig-music-theater-08-26-2016-8865
END:VEVENT

END:VCALENDAR
