BEGIN:VCALENDAR
VERSION:2.0
PRODID:-//ChamberMaster//Event Calendar 2.0//EN
METHOD:PUBLISH
X-PUBLISHED-TTL:P3D
REFRESH-INTERVAL:P3D
CALSCALE:GREGORIAN
BEGIN:VEVENT
DTSTART:20181013T000000Z
DTEND:20181013T020000Z
X-MICROSOFT-CDO-ALLDAYEVENT:FALSE
SUMMARY:House Concert Series: Gaines & Wagoner
DESCRIPTION:Gaines & Wagoner\n\nFriday\, October 12th\, 2018 7pm\n\nat River Arts on Water Gallery (590 Water St\, downtown Prairie du Sac)\n\n\n\n\nBased in Madison\, WI\, the award-winning husband and wife duo of Mary Gaines (cello\, guitar\, bass\, vocals) and Chris Wagoner (violin\, mandolins\, lapsteel\, ukulele\, guitar\, accordion\, vocals) play an eclectic mix of Americana original and classic tunes ranging from folk to jazz\, bluegrass to blues\, honky-tonk and a little singer-songwriter on the side.\n\nLet's just say you happen to walk into a music venue and see a duo playing cello and violin. You'd most likely expect to hear either classical or folk music of some kind\, right? But just as you spy the lineup of crazy acoustic and electric stringed instruments of all varieties the duo tears into a tune that combines funky electric fuzz-wah fiddle with thumping pizzicato cello and your assumptions start to crumble. The next tune features old-time duo vocals over the jangle of an acoustic mandolin and guitar followed by a righteous gospel-fired slide-guitar-driven blues and then right into a crooning\, heart-stopping jazz ballad. The space in-between the tunes is alternately punctuated by folk-style storytelling and light-hearted riffing with the audience. This is not "one-size-fits-all" music. This is Gaines and Wagoner.\n\n\nLISTEN HERE!\n\n\n\nHouse concerts are casual\, intimate\, solo or small ensemble musical performances. No tickets are required\, but a $5-$10 donation at the door is appreciated. Beverages provided by Vintage Brewing Co.
X-ALT-DESC;FMTTYPE=text/html:<p><strong>Gaines &amp\; Wagoner</strong></p>\n\n<p><strong>Friday\, October 12th\, 2018 7pm</strong></p>\n\n<p><strong>at River Arts on Water Gallery (590 Water St\, downtown Prairie du Sac)</strong></p>\n\n<div>\n<div>\n<div>\n<p>Based in Madison\, WI\, the award-winning husband and wife duo of Mary Gaines (cello\, guitar\, bass\, vocals) and Chris Wagoner (violin\, mandolins\, lapsteel\, ukulele\, guitar\, accordion\, vocals) play an eclectic mix of Americana&mdash\;original and classic tunes ranging from folk to jazz\, bluegrass to blues\, honky-tonk and a little singer-songwriter on the side.</p>\n\n<p>Let&rsquo\;s just say you happen to walk into a music venue and see a duo playing cello and violin. You&rsquo\;d most likely expect to hear either classical or folk music of some kind\, right? But just as you spy the lineup of crazy acoustic and electric stringed instruments of all varieties the duo tears into a tune that combines funky electric fuzz-wah fiddle with thumping pizzicato cello and your assumptions start to crumble. The next tune features old-time duo vocals over the jangle of an acoustic mandolin and guitar followed by a righteous gospel-fired slide-guitar-driven blues and then right into a crooning\, heart-stopping jazz ballad. The space in-between the tunes is alternately punctuated by folk-style storytelling and light-hearted riffing with the audience. This is not &ldquo\;one-size-fits-all&rdquo\; music. This is Gaines and Wagoner.</p>\n</div>\n\n<p><a href="http://www.gainesandwagoner.com/av/" style="margin: 0px\; padding: 0px\; color: rgb(193\, 193\, 204)\;">LISTEN HERE!</a></p>\n</div>\n</div>\n\n<p><em>House concerts are casual\, intimate\, solo or small ensemble musical performances. No tickets are required\, but a $5-$10 donation at the door is appreciated. Beverages provided by Vintage Brewing Co.</em></p>\n
LOCATION:River Arts on Water Gallery (590 Water St\, downtown Prairie du Sac)
UID:e.1184.20470
SEQUENCE:3
DTSTAMP:20260424T034105Z
URL:http://members.saukprairie.com/events/details/house-concert-series-gaines-wagoner-20470
END:VEVENT

END:VCALENDAR
