BEGIN:VCALENDAR
VERSION:2.0
PRODID:-//ChamberMaster//Event Calendar 2.0//EN
METHOD:PUBLISH
X-PUBLISHED-TTL:P3D
REFRESH-INTERVAL:P3D
CALSCALE:GREGORIAN
BEGIN:VEVENT
DTSTART:20170107T010000Z
DTEND:20170107T030000Z
X-MICROSOFT-CDO-ALLDAYEVENT:FALSE
SUMMARY:House Concert Series: Gin\, Chocolate\, & Bottle Rockets (pop/rock)
DESCRIPTION:Gin\, Chocolate & Bottle Rockets combines the musical styles of three solo-artists-turned-bandmates\, Jennifer Farley\, Shawndell Marks and Beth Kille\, into a rich blend of tight 3-part harmonies and clever pop-rock songwriting\, ranging from edgy to fun.
X-ALT-DESC;FMTTYPE=text/html:<span style="color:rgb(91\, 91\, 91)\; font-family:source sans pro\,sans-serif\; font-size:16px">Gin\, Chocolate &amp\; Bottle Rockets combines the musical styles of three solo-artists-turned-bandmates\, Jennifer Farley\, Shawndell Marks and Beth Kille\, into a rich blend of tight 3-part harmonies and clever pop-rock songwriting\, ranging from edgy to fun.</span>
LOCATION:River Arts on Water Gallery 590 Water St\, Prairie du Sac\, WI
UID:e.1184.8870
SEQUENCE:3
DTSTAMP:20260425T124843Z
URL:http://members.saukprairie.com/events/details/house-concert-series-gin-chocolate-bottle-rockets-pop-rock-01-06-2017-8870
END:VEVENT

END:VCALENDAR
