BEGIN:VCALENDAR
VERSION:2.0
PRODID:-//ChamberMaster//Event Calendar 2.0//EN
METHOD:PUBLISH
X-PUBLISHED-TTL:P3D
REFRESH-INTERVAL:P3D
CALSCALE:GREGORIAN
BEGIN:VEVENT
DTSTART:20181208T010000Z
DTEND:20181208T030000Z
X-MICROSOFT-CDO-ALLDAYEVENT:FALSE
SUMMARY:House Concert Series: Karen Atz (Holiday Hap)
DESCRIPTION:Karen Atz\n\nFriday\, December 7th\, 2018 7pm\n\nat River Arts on Water Gallery (590 Water St\, downtown Prairie du Sac)\n\n\n\nHarpist Karen Beth Atz will play an evening of seasonal music on Friday\, December 7\, at 7:00 p.m.\, at River Arts on Water Gallery.  She recently moved to Prairie du Sac\, after retiring from 42 years as Principal Harpist of the Madison Symphony Orchestra. Karen teaches private students and is Professor of Harp at UW-Madison.\n\n\n\n \n\n\n\n\nHouse concerts are casual\, intimate\, solo or small ensemble musical performances. No tickets are required\, but a $5-$10 donation at the door is appreciated. Beverages provided by Vintage Brewing Co.
X-ALT-DESC;FMTTYPE=text/html:<p><strong>Karen Atz</strong></p>\n\n<p><strong>Friday\, December 7th\, 2018 7pm</strong></p>\n\n<p><strong>at River Arts on Water Gallery (590 Water St\, downtown Prairie du Sac)</strong></p>\n\n<div>\n<div>\n<div>Harpist Karen Beth Atz will play an evening of seasonal music on Friday\, December 7\, at 7:00 p.m.\, at River Arts on Water Gallery.&nbsp\; She recently moved to Prairie du Sac\, after retiring from 42 years as Principal Harpist of the Madison Symphony Orchestra. Karen teaches private students and is Professor of Harp at UW-Madison.</div>\n</div>\n</div>\n\n<div>&nbsp\;</div>\n\n<div>\n<hr /></div>\n\n<div><em>House concerts are casual\, intimate\, solo or small ensemble musical performances. No tickets are required\, but a $5-$10 donation at the door is appreciated. Beverages provided by Vintage Brewing Co.</em></div>\n
LOCATION:River Arts on Water Gallery (590 Water St\, downtown Prairie du Sac)
UID:e.1184.20471
SEQUENCE:3
DTSTAMP:20260424T004901Z
URL:http://members.saukprairie.com/events/details/house-concert-series-karen-atz-holiday-hap-20471
END:VEVENT

END:VCALENDAR
