BEGIN:VCALENDAR
VERSION:2.0
PRODID:-//ChamberMaster//Event Calendar 2.0//EN
METHOD:PUBLISH
X-PUBLISHED-TTL:P3D
REFRESH-INTERVAL:P3D
CALSCALE:GREGORIAN
BEGIN:VEVENT
DTSTART:20190112T010000Z
DTEND:20190112T030000Z
X-MICROSOFT-CDO-ALLDAYEVENT:FALSE
SUMMARY:House Concert Series: Kerosene Kites
DESCRIPTION:Kerosene Kites\n\nFriday\, January 11th\, 2019 7pm\n\nat River Arts on Water Gallery (590 Water St\, downtown Prairie du Sac)\n\n\n\nAmericana musical stylings and endeavors from the minds of prolific songwriters Beth Kille and Erik Kjelland.\n\n\n\n \n\n\n\n\n \n\nHouse concerts are casual\, intimate\, solo or small ensemble musical performances. No tickets are required\, but a $5-$10 donation at the door is appreciated. Beverages provided by Vintage Brewing Co.
X-ALT-DESC;FMTTYPE=text/html:<p><strong>Kerosene Kites</strong></p>\n\n<p><strong>Friday\, January 11th\, 2019 7pm</strong></p>\n\n<p><strong>at River Arts on Water Gallery (590 Water St\, downtown Prairie du Sac)</strong></p>\n\n<div>\n<div>\n<div>Americana musical stylings and endeavors from the minds of prolific songwriters Beth Kille and Erik Kjelland.</div>\n</div>\n</div>\n\n<div>&nbsp\;</div>\n\n<div>\n<hr /></div>\n\n<div>&nbsp\;</div>\n\n<p><em>House concerts are casual\, intimate\, solo or small ensemble musical performances. No tickets are required\, but a $5-$10 donation at the door is appreciated. Beverages provided by Vintage Brewing Co.</em></p>\n
LOCATION:River Arts on Water Gallery (590 Water St\, downtown Prairie du Sac)
UID:e.1184.20472
SEQUENCE:3
DTSTAMP:20260423T230622Z
URL:http://members.saukprairie.com/events/details/house-concert-series-kerosene-kites-20472
END:VEVENT

END:VCALENDAR
