BEGIN:VCALENDAR
VERSION:2.0
PRODID:-//ChamberMaster//Event Calendar 2.0//EN
METHOD:PUBLISH
X-PUBLISHED-TTL:P3D
REFRESH-INTERVAL:P3D
CALSCALE:GREGORIAN
BEGIN:VEVENT
DTSTART:20161210T010000Z
DTEND:20161210T030000Z
X-MICROSOFT-CDO-ALLDAYEVENT:FALSE
SUMMARY:House Concert Series: Mad Apples (folk trio)
DESCRIPTION:Mad Apples\, a Madison trio\, perform songs both venerable and recent.  Featuring the writing and riffing of Jacob Grace and Michael Bell\, and the vocals of Amanda Jane Hoffman\, they fill the air with guitar\, mandolin\, banjo\, and ukulele\, as well as plenty of harmony singing.  With their songs about love\, justice\, and a greener world\, Mad Apples will lift your spirits to the stars. \n\n\n\nwww.riverartsinc.org
X-ALT-DESC;FMTTYPE=text/html:<span style="color:rgb(34\, 34\, 34)\; font-family:arial\,sans-serif">Mad Apples\, a Madison trio\, perform songs both&nbsp\;venerable and recent. &nbsp\;Featuring the writing and&nbsp\;riffing of Jacob Grace and Michael Bell\, and the vocals of&nbsp\;Amanda Jane Hoffman\,&nbsp\;they fill the air with guitar\, mandolin\, banjo\, and ukulele\, as well as plenty&nbsp\;of&nbsp\;harmony singing. &nbsp\;With their songs about love\, justice\, and a greener&nbsp\;world\, Mad Apples will lift your spirits to&nbsp\;the stars.&nbsp\;</span><br />\n<br />\nwww.riverartsinc.org&nbsp\; &nbsp\;
LOCATION:River Arts on Water Gallery\, 590 Water St. Prairie du Sac
UID:e.1184.8526
SEQUENCE:3
DTSTAMP:20260425T142402Z
URL:http://members.saukprairie.com/events/details/house-concert-series-mad-apples-folk-trio-12-09-2016-8526
END:VEVENT

END:VCALENDAR
