BEGIN:VCALENDAR
VERSION:2.0
PRODID:-//ChamberMaster//Event Calendar 2.0//EN
METHOD:PUBLISH
X-PUBLISHED-TTL:P3D
REFRESH-INTERVAL:P3D
CALSCALE:GREGORIAN
BEGIN:VEVENT
DTSTART:20161002T000000Z
DTEND:20161002T020000Z
X-MICROSOFT-CDO-ALLDAYEVENT:FALSE
SUMMARY:House Concert Series: Mal-O-Doa (acoustic swing)
DESCRIPTION:"Mal-O-Dua" or mal aux doigts is French for sore and weary finger from working\n\n \n\nWhat happened when Django Reinhardt met Merle Travis? A new style of acoustic swing was born!! Well actually that never did really happen. However\, that is the blending of styles that Mal-O-Dua is built on.\n\n\n\nThe duo pulls from a wide range of sources including early French pop\, traditional Hawaiian music\, Gypsy jazz\, Kentucky finger picking\, Western Swing\, Parisian waltz\, and the American standards songbook to name a few. These styles are blended to create a fresh new sound.\n\n\n\nMal-O-Dua presents a high energy eclectic show that ranges broadly through various acoustic genres.  They pepper in historical anecdotes about the music they present to give it context.  Mal-O-Dua has performance experience in many settings including night clubs\, music festivals\, concert series\, and private events. Their unique blend of musical styles is always met with rave reviews!
X-ALT-DESC;FMTTYPE=text/html:<div>&quot\;Mal-O-Dua&quot\; or mal aux doigts is French for sore and weary finger from working<br />\n&nbsp\;<br />\nWhat happened when Django Reinhardt met Merle Travis? A new style of acoustic swing was born!! Well&hellip\;actually that never did really happen. However\, that is the blending of styles that Mal-O-Dua is built on.<br />\n<br />\nThe duo pulls from a wide range of sources including early French pop\, traditional Hawaiian music\, Gypsy jazz\, Kentucky finger picking\, Western Swing\, Parisian waltz\, and the American standards songbook to name a few. These styles are blended to create a fresh new sound.<br />\n<br />\nMal-O-Dua presents a high energy eclectic show that ranges broadly through various acoustic genres.&nbsp\; They pepper in historical anecdotes about the music they present to give it context.&nbsp\; Mal-O-Dua has performance experience in many&nbsp\;settings including night clubs\, music festivals\, concert series\, and private events. Their unique blend of musical styles is always met with rave reviews!<span style="font-family:timesnewromanpsmt">&nbsp\;</span></div>\n\n<div>&nbsp\;</div>\n
LOCATION:River Arts on Water Gallery 590 Water St\, Prairie du Sac\, WI
UID:e.1184.8867
SEQUENCE:3
DTSTAMP:20260425T174602Z
URL:http://members.saukprairie.com/events/details/house-concert-series-mal-o-doa-acoustic-swing-10-01-2016-8867
END:VEVENT

END:VCALENDAR
