BEGIN:VCALENDAR
VERSION:2.0
PRODID:-//ChamberMaster//Event Calendar 2.0//EN
METHOD:PUBLISH
X-PUBLISHED-TTL:P3D
REFRESH-INTERVAL:P3D
CALSCALE:GREGORIAN
BEGIN:VEVENT
DTSTART:20200502T000000Z
DTEND:20200502T020000Z
X-MICROSOFT-CDO-ALLDAYEVENT:FALSE
SUMMARY:House Concert Series: Rising Stars (Sauk Prairie Youth)
DESCRIPTION:Sauk Prairie Rising Stars\n\nat River Arts on Water (downtown) | 590 Water St\, Prairie du Sac\, WI 53578\n\nFriday\, May 1\, 2020 | 7pm-9pm\n\nDoors open at 6:15pm.\n\nAn annual concert featuring the very talented Sauk Prairie High School students.
X-ALT-DESC;FMTTYPE=text/html:<p><strong>Sauk Prairie Rising Stars</strong></p>\n\n<p><strong>at River Arts on Water (downtown) | 590 Water St\, Prairie du Sac\, WI 53578</strong></p>\n\n<p>Friday\, May 1\, 2020 | 7pm-9pm</p>\n\n<p>Doors open at 6:15pm.</p>\n\n<p>An annual concert featuring the very talented Sauk Prairie High School students.</p>\n
LOCATION:River Arts on Water (downtown) | 590 Water St\, Prairie du Sac\, WI 53578
UID:e.1184.22740
SEQUENCE:3
DTSTAMP:20260423T002555Z
URL:http://members.saukprairie.com/events/details/house-concert-series-rising-stars-sauk-prairie-youth-05-01-2020-22740
END:VEVENT

END:VCALENDAR
