BEGIN:VCALENDAR
VERSION:2.0
PRODID:-//ChamberMaster//Event Calendar 2.0//EN
METHOD:PUBLISH
X-PUBLISHED-TTL:P3D
REFRESH-INTERVAL:P3D
CALSCALE:GREGORIAN
BEGIN:VEVENT
DTSTART:20190504T000000Z
DTEND:20190504T020000Z
X-MICROSOFT-CDO-ALLDAYEVENT:FALSE
SUMMARY:House Concert Series: Rising Stars (Sauk Prairie Youth)
DESCRIPTION:Rising Stars: Sauk Prairie Youth\n\nFriday\, May 3\, 2019 7pm\n\nat River Arts on Water Gallery (590 Water St\, downtown Prairie du Sac)\n\nAn annual concert featuring the talents of Sauk Prairie youth.\n\n\n\n\nHouse concerts are casual\, intimate\, solo or small ensemble musical performances. No tickets are required\, but a $5-$10 donation at the door is appreciated. Beverages provided by Vintage Brewing Co.
X-ALT-DESC;FMTTYPE=text/html:<p><strong>Rising Stars: Sauk Prairie Youth</strong></p>\n\n<p><strong>Friday\, May 3\, 2019 7pm</strong></p>\n\n<p><strong>at River Arts on Water Gallery (590 Water St\, downtown Prairie du Sac)</strong></p>\n\n<div>An annual concert featuring the talents of Sauk Prairie youth.</div>\n\n<div>\n<hr /></div>\n\n<div><em>House concerts are casual\, intimate\, solo or small ensemble musical performances. No tickets are required\, but a $5-$10 donation at the door is appreciated. Beverages provided by Vintage Brewing Co.</em></div>\n
LOCATION:River Arts on Water Gallery (590 Water St\, downtown Prairie du Sac)
UID:e.1184.20475
SEQUENCE:3
DTSTAMP:20260423T172025Z
URL:http://members.saukprairie.com/events/details/house-concert-series-rising-stars-sauk-prairie-youth-20475
END:VEVENT

END:VCALENDAR
