BEGIN:VCALENDAR
VERSION:2.0
PRODID:-//ChamberMaster//Event Calendar 2.0//EN
METHOD:PUBLISH
X-PUBLISHED-TTL:P3D
REFRESH-INTERVAL:P3D
CALSCALE:GREGORIAN
BEGIN:VEVENT
DTSTART:20161120T010000Z
DTEND:20161120T030000Z
X-MICROSOFT-CDO-ALLDAYEVENT:FALSE
SUMMARY:House Concert Series: Rory Bolton (oldies/music theater)
DESCRIPTION:Sauk Prairie Alumni Rory Bolton has performed professionally all over the world. With experiences from the Ringling Bros. Circus to cruise ship entertaining\, Rory's background of music and styles are both extensive. \n\n \n\nBolton's musical versatility is unparalleled to that of any other as he switches effortlessly from Franz Liszt to Frank Sinatra in his repertoire. He is equally comfortable performing as a soloist or collaborating with other artists.\n\n\n\nBolton made his stage debut at the young age of 14 where he starred as the show pianist for the Fabulous 50's Rock 'n Roll Show in Wisconsin Dells\, under the original direction of the Triumphant Trio: Karen Luher\, Susan Halloway\, and Tom Terrien. His wild stage antics combined with his musicianship make him a performer you don't want to miss!\n\n\n\nwww.riverartsinc.org
X-ALT-DESC;FMTTYPE=text/html:<span style="font-family:arial"><span style="font-size:10.0pt">Sauk Prairie Alumni Rory Bolton&nbsp\;has performed professionally all over the world. With experiences from the Ringling Bros. Circus&nbsp\;to cruise ship entertaining\, Rory&#39\;s background of music and styles are both extensive.&nbsp\;</span></span><br />\n&nbsp\;<br />\n<span style="font-family:arial"><span style="font-size:10.0pt">Bolton&#39\;s musical versatility is unparalleled to that of any other as he switches effortlessly from Franz Liszt to Frank Sinatra in his repertoire. He is equally comfortable performing as a soloist or collaborating with other artists.<br />\n<br />\nBolton made his&nbsp\;stage debut at the young age of 14 where he starred as the show pianist for the Fabulous 50&#39\;s Rock &#39\;n Roll Show in Wisconsin Dells\, under the original direction of the Triumphant Trio: Karen Luher\, Susan Halloway\, and Tom Terrien. His wild stage antics combined with his musicianship make him a performer you don&#39\;t want to miss!</span></span><br />\n<br />\nwww.riverartsinc.org
LOCATION:River Arts on Water Gallery\, 590 Water St. Prairie du Sac
UID:e.1184.8525
SEQUENCE:3
DTSTAMP:20260425T161504Z
URL:http://members.saukprairie.com/events/details/house-concert-series-rory-bolton-oldies-music-theater-11-19-2016-8525
END:VEVENT

END:VCALENDAR
