BEGIN:VCALENDAR
VERSION:2.0
PRODID:-//ChamberMaster//Event Calendar 2.0//EN
METHOD:PUBLISH
X-PUBLISHED-TTL:P3D
REFRESH-INTERVAL:P3D
CALSCALE:GREGORIAN
BEGIN:VEVENT
DTSTART:20180922T000000Z
DTEND:20180922T020000Z
X-MICROSOFT-CDO-ALLDAYEVENT:FALSE
SUMMARY:House Concert Series: Ryan Senger
DESCRIPTION:Ryan Senger\n\nFriday\, September 21\, 2018 7pm\n\nat River Arts on Water Gallery (590 Water St\, downtown Prairie du Sac)\n\n\n\nAmerican classical pianist Ryan Senger will perform at 7 p.m. September 21 at the River Arts on Water Gallery.\n\n\n\n\n\nSenger graduated summa cum laude with a bachelor of arts in piano performance from DePaul University. He is enrolled in the master's program at DePaul in the studio of internationally renowned pianist George Vatchnadze.\n\n\n\n\n\n\n \n\nHouse concerts are casual\, intimate\, solo or small ensemble musical performances. No tickets are required\, but a $5-$10 donation at the door is appreciated. Beverages provided by Vintage Brewing Co.
X-ALT-DESC;FMTTYPE=text/html:<p><strong>Ryan Senger</strong></p>\n\n<p><strong>Friday\, September 21\, 2018 7pm</strong></p>\n\n<p><strong>at River Arts on Water Gallery (590 Water St\, downtown Prairie du Sac)</strong></p>\n\n<div>\n<div>\n<div>American classical pianist Ryan Senger will perform at 7 p.m. September 21 at the River Arts on Water Gallery.</div>\n</div>\n</div>\n\n<div>\n<div>\n<p>Senger graduated summa cum laude with a bachelor of arts in piano performance from DePaul University. He is enrolled in the master&rsquo\;s program at DePaul in the studio of internationally renowned pianist George Vatchnadze.</p>\n</div>\n</div>\n\n<div>\n<hr /></div>\n\n<div>&nbsp\;</div>\n\n<p><em>House concerts are casual\, intimate\, solo or small ensemble musical performances. No tickets are required\, but a $5-$10 donation at the door is appreciated. Beverages provided by Vintage Brewing Co.</em></p>\n
LOCATION:River Arts on Water Gallery (590 Water St\, downtown Prairie du Sac)
UID:e.1184.20469
SEQUENCE:3
DTSTAMP:20260424T050943Z
URL:http://members.saukprairie.com/events/details/house-concert-series-ryan-senger-20469
END:VEVENT

END:VCALENDAR
