BEGIN:VCALENDAR
VERSION:2.0
PRODID:-//ChamberMaster//Event Calendar 2.0//EN
METHOD:PUBLISH
X-PUBLISHED-TTL:P3D
REFRESH-INTERVAL:P3D
CALSCALE:GREGORIAN
BEGIN:VEVENT
DTSTART:20190216T010000Z
DTEND:20190216T030000Z
X-MICROSOFT-CDO-ALLDAYEVENT:FALSE
SUMMARY:House Concert Series: The Dang-Its
DESCRIPTION:The Dang-Its\n\nFriday\, February 15th\, 2019 7pm\n\nat River Arts on Water Gallery (590 Water St\, downtown Prairie du Sac)\n\n\nThe Dang-Its' approach is roots oriented\, emphasizing tight arrangements with clear\, soaring vocal harmonies. The band shifts effortlessly from spare and gritty alt-country stories\, to jazzy\, western swing jump tunes\, to whisper-quiet ballads a stylistic and dynamic sweep that one Madison writer/musician simply described as "Atmospheric." Their repertoire is definitely off the beaten track and features songs that span a wide range\, from the quirky and humorous to powerful portraits of love and loss. Add a few classics and standards along with expertly crafted original music\, and The Dang-Its offer a mix that will connect with any audience.\n\nFeaturing Tom Waselchuk\, Matt Rodgers\, and Rick Nass\n\n\n\n\n\nHouse concerts are casual\, intimate\, solo or small ensemble musical performances. No tickets are required\, but a $5-$10 donation at the door is appreciated. Beverages provided by Vintage Brewing Co.
X-ALT-DESC;FMTTYPE=text/html:<p><strong>The Dang-Its</strong></p>\n\n<p><strong>Friday\, February 15th\, 2019 7pm</strong></p>\n\n<p><strong>at River Arts on Water Gallery (590 Water St\, downtown Prairie du Sac)</strong></p>\n\n<div>\n<p>The Dang-Its&rsquo\; approach is roots oriented\, emphasizing tight arrangements with clear\, soaring vocal harmonies. The band shifts effortlessly from spare and gritty alt-country stories\, to jazzy\, western swing jump tunes\, to whisper-quiet ballads&mdash\;a stylistic and dynamic sweep that one Madison writer/musician simply described as &ldquo\;Atmospheric.&rdquo\; Their repertoire is definitely off the beaten track and features songs that span a wide range\, from the quirky and humorous to powerful portraits of love and loss. Add a few classics and standards along with expertly crafted original music\, and The Dang-Its offer a mix that will connect with any audience.</p>\n\n<p>Featuring Tom Waselchuk\, Matt Rodgers\, and Rick Nass</p>\n</div>\n\n<div>\n<hr /></div>\n\n<div><em>House concerts are casual\, intimate\, solo or small ensemble musical performances. No tickets are required\, but a $5-$10 donation at the door is appreciated. Beverages provided by Vintage Brewing Co.</em></div>\n
LOCATION:River Arts on Water Gallery (590 Water St\, downtown Prairie du Sac)
UID:e.1184.20473
SEQUENCE:3
DTSTAMP:20260423T230339Z
URL:http://members.saukprairie.com/events/details/house-concert-series-the-dang-its-20473
END:VEVENT

END:VCALENDAR
