BEGIN:VCALENDAR
VERSION:2.0
PRODID:-//ChamberMaster//Event Calendar 2.0//EN
METHOD:PUBLISH
X-PUBLISHED-TTL:P3D
REFRESH-INTERVAL:P3D
CALSCALE:GREGORIAN
BEGIN:VEVENT
DTSTART:20190413T000000Z
DTEND:20190413T020000Z
X-MICROSOFT-CDO-ALLDAYEVENT:FALSE
SUMMARY:House Concert Series: The Giese Girls!
DESCRIPTION:The Giese Girls\n\nFriday\, April 12th\, 2019 7pm\n\nat River Arts on Water Gallery (590 Water St\, downtown Prairie du Sac)\n\n\nThe Giese sisters (Jessica & Lindsey) are back again to perform the music of some of their favorite singers. From Audra McDonald & Sutton Foster to Sara Bareilles & Celine Dion\, it will be an unforgettable evening of music.\n\nMany of you know Lindsey as the Executive Director of River Arts Inc\, but prior to this role\, she was the lead singer for Holland America and Celebrity Cruises. She holds 2 Bachelor of Fine Arts in Music Theatre and Arts Administration and currently tours the Midwest with The Dang-Its in a review show entitled "Sweet Dreams and Honky Tonks."\n\nJessica Baetz holds a Bachelor of Music degree from Butler University and a Master of Music degree from the University of Wisconsin-Madison. She enjoys performing an eclectic variety of music and has a particular interest in 20th century compositions.\n\nThey will be accompanied by the lovely Dr. Kristine Bengtson.  Kristine is an active recitalist\, collaborative artist and teacher based in Madison\, Wisconsin. She is a nationally certified member of the Music Teachers' National Association and holds a Doctorate of Musical Arts Degree from the University of Wisconsin Madison.\n\n\n\n\n\nHouse concerts are casual\, intimate\, solo or small ensemble musical performances. No tickets are required\, but a $5-$10 donation at the door is appreciated. Beverages provided by Vintage Brewing Co.
X-ALT-DESC;FMTTYPE=text/html:<p><strong>The Giese Girls</strong></p>\n\n<p><strong>Friday\, April 12th\, 2019 7pm</strong></p>\n\n<p><strong>at River Arts on Water Gallery (590 Water St\, downtown Prairie du Sac)</strong></p>\n\n<div>\n<p>The Giese sisters (Jessica &amp\; Lindsey) are back again to perform the music of some of their favorite singers. From Audra McDonald &amp\; Sutton Foster to Sara Bareilles &amp\; Celine Dion\, it will be an unforgettable evening of music.</p>\n\n<p>Many of you know Lindsey as the Executive Director of River Arts Inc\, but prior to this role\, she was the lead singer for Holland America and Celebrity Cruises. She holds 2 Bachelor of Fine Arts in Music Theatre and Arts Administration and currently tours the Midwest with The Dang-Its in a review show entitled &ldquo\;Sweet Dreams and Honky Tonks.&rdquo\;</p>\n\n<p>Jessica Baetz holds a Bachelor of Music degree from Butler University and a Master of Music degree from the University of Wisconsin-Madison. She enjoys performing an eclectic variety of music and has a particular interest in 20th century compositions.</p>\n\n<p>They will be accompanied by the lovely Dr. Kristine Bengtson.&nbsp\; Kristine is an active recitalist\, collaborative artist and teacher based in Madison\, Wisconsin.&nbsp\;She is a nationally certified member of the Music Teachers&rsquo\; National Association and holds a Doctorate of Musical Arts Degree from the University of Wisconsin Madison.</p>\n</div>\n\n<div>\n<hr /></div>\n\n<div><em>House concerts are casual\, intimate\, solo or small ensemble musical performances. No tickets are required\, but a $5-$10 donation at the door is appreciated. Beverages provided by Vintage Brewing Co.</em></div>\n
LOCATION:River Arts on Water Gallery (590 Water St\, downtown Prairie du Sac)
UID:e.1184.20474
SEQUENCE:3
DTSTAMP:20260423T202033Z
URL:http://members.saukprairie.com/events/details/house-concert-series-the-giese-girls-20474
END:VEVENT

END:VCALENDAR
