BEGIN:VCALENDAR
VERSION:2.0
PRODID:-//ChamberMaster//Event Calendar 2.0//EN
METHOD:PUBLISH
X-PUBLISHED-TTL:P3D
REFRESH-INTERVAL:P3D
CALSCALE:GREGORIAN
BEGIN:VEVENT
DTSTART:20190914T000000Z
DTEND:20190914T020000Z
X-MICROSOFT-CDO-ALLDAYEVENT:FALSE
SUMMARY:House Concert Series: The Honey Pies (Americana)
DESCRIPTION:The Honey Pies\n\nat River Arts on Water (downtown) | 590 Water St\, Prairie du Sac\, WI 53578\n\nFriday\, September13th\, 2019 | 7pm-9pm\n\nDoors open at 6:15pm.\n\nThe Honey Pies apply crystal harmonies and virtuoso instrumental skills to the best of traditional\, contemporary\, and original Americana music.\n\nIn September 2017 three veteran Madison musicians\, vocalist Jodi Jean Amble\, singer and guitarist Tom Waselchuk\, and multi-instrumentalist Doug Brown\, put together a set of material for a one-and-done performance at the annual Spring Green BeatleFest. Their set was enthusiastically received. The players came away feeling the spark of a kindred musical spirit\, and so began The Honey Pies. A year's worth of performances has only confirmed each member's initial feeling that they'd stumbled onto something special. To mark their one year anniversary The Honey Pies introduced bassist and vocalist Matt Rodgers to the band. \n\n"This is not your typical three-chord country-folk band! The four members of The Honey Pies are all terrific musicians in their own right\, but put together their musicality shoots to new heights.  The sound is free-spirited\, but amazingly focused and precise. Jodi & Tom's voices blend so well and both have extensive vocal ranges.  When Matt and Doug join in for four part harmony\, it's just over the top. Tom & Doug's fret work and Matt's bass riffs are inspiring\, and you just can't help but love Jodi Jean any time she opens her mouth to sing.  And what a range of styles!"\n\n  Nancy Cullen     Rural Musicians Forum\n\nSponsored by Vintage Brewing Co. Sauk Prairie\n\n\nHouse concerts are casual\, intimate\, solo or small ensemble musical performances that take place right in the River Arts on Water Gallery.  No tickets are required\, but a $5-$10 donation at the door is appreciated.  All proceeds benefit River Arts Inc. programs.
X-ALT-DESC;FMTTYPE=text/html:<p><strong>The Honey Pies</strong></p>\n\n<p><strong>at River Arts on Water (downtown) | 590 Water St\, Prairie du Sac\, WI 53578</strong></p>\n\n<p>Friday\, September13th\, 2019 | 7pm-9pm</p>\n\n<p><em>Doors open at 6:15pm.</em></p>\n\n<p>The Honey Pies apply crystal harmonies and virtuoso instrumental skills to the best of traditional\, contemporary\, and original Americana music.</p>\n\n<p>In September 2017 three veteran Madison musicians\, vocalist Jodi Jean Amble\, singer and guitarist Tom Waselchuk\, and multi-instrumentalist Doug Brown\, put together a set of material for a one-and-done performance at the annual Spring Green BeatleFest. Their set was enthusiastically received. The players came away feeling the spark of a kindred musical spirit\, and so began The Honey Pies. A year&rsquo\;s worth of performances has only confirmed each member&rsquo\;s initial feeling that they&rsquo\;d stumbled onto something special.&nbsp\;To mark their one year anniversary The Honey Pies introduced bassist and vocalist Matt Rodgers to the band.&nbsp\;</p>\n\n<p><em>&ldquo\;This is not your typical three-chord&nbsp\;country-folk band!&nbsp\;The four members of The Honey Pies are all terrific musicians in their own right\, but put together their musicality shoots to new heights.&nbsp\; The sound is free-spirited\, but amazingly focused and precise. Jodi &amp\; Tom&rsquo\;s voices blend so well and both have extensive vocal ranges.&nbsp\; When Matt and Doug join in for four part harmony\, it&rsquo\;s just over the top.&nbsp\;Tom &amp\; Doug&rsquo\;s fret work and Matt&rsquo\;s bass riffs are inspiring\, and you just can&rsquo\;t help but love Jodi Jean any time she opens her mouth to sing.&nbsp\; And what a range of styles!&rdquo\;</em></p>\n\n<p>&nbsp\;&ndash\;Nancy Cullen&nbsp\; &bull\;&nbsp\; Rural Musicians Forum</p>\n\n<p>Sponsored by&nbsp\;<a href="https://vintagebrewingcompany.com/saukprairie/" style="margin: 0px\; padding: 0px\; color: rgb(193\, 193\, 204)\;">Vintage Brewing Co. Sauk Prairie</a></p>\n\n<hr />\n<p><em>House concerts are casual\, intimate\, solo or small ensemble musical performances that take place right in the River Arts on Water Gallery.&nbsp\; No tickets are required\, but a $5-$10 donation at the door is appreciated.&nbsp\; All proceeds benefit River Arts Inc. programs.</em></p>\n
LOCATION:River Arts on Water (downtown) | 590 Water St\, Prairie du Sac\, WI 53578
UID:e.1184.22735
SEQUENCE:3
DTSTAMP:20260423T114030Z
URL:http://members.saukprairie.com/events/details/house-concert-series-the-honey-pies-americana-22735
END:VEVENT

END:VCALENDAR
