BEGIN:VCALENDAR
VERSION:2.0
PRODID:-//ChamberMaster//Event Calendar 2.0//EN
METHOD:PUBLISH
X-PUBLISHED-TTL:P3D
REFRESH-INTERVAL:P3D
CALSCALE:GREGORIAN
BEGIN:VEVENT
DTSTART:20160807T000000Z
DTEND:20160807T020000Z
X-MICROSOFT-CDO-ALLDAYEVENT:FALSE
SUMMARY:House Concert Series: The Jacks (folk)
DESCRIPTION:Featuring Ted Harter\, Matt Brennan\, Owen Murphy\, and Hans Fester.\n\nJoin us for an evening of fun folk music on the river! Featuring beer provided by Woodshed Ale House
X-ALT-DESC;FMTTYPE=text/html:Featuring Ted Harter\, Matt Brennan\, Owen Murphy\, and Hans Fester.<br />\nJoin us for an evening of fun folk music on the river! Featuring beer provided by Woodshed Ale House
LOCATION:River Arts on Water Gallery 590 Water St\, Prairie du Sac\, WI
UID:e.1184.8864
SEQUENCE:3
DTSTAMP:20260425T210155Z
URL:http://members.saukprairie.com/events/details/house-concert-series-the-jacks-folk-08-06-2016-8864
END:VEVENT

END:VCALENDAR
