BEGIN:VCALENDAR
VERSION:2.0
PRODID:-//ChamberMaster//Event Calendar 2.0//EN
METHOD:PUBLISH
X-PUBLISHED-TTL:P3D
REFRESH-INTERVAL:P3D
CALSCALE:GREGORIAN
BEGIN:VEVENT
DTSTART:20170722T000000Z
DTEND:20170722T020000Z
X-MICROSOFT-CDO-ALLDAYEVENT:FALSE
SUMMARY:House Concert Series: The Jeffrey James Show feature Maggie Poff
DESCRIPTION:Jeffrey James has been traveling the world for seven years\, performing positive\, conscious\, feel-good music. Jeffrey carries a vibe and a message with his soulful melodies and his melodic rhythms. Spending winters in the Sierra Nevada mountains\, harvests in Northern California wine country\, and ample time on various Pacific Islands\, Jeffrey has a unique sound rich with island tones and dreamy imagery. Sauk Prairie native\, Maggie Poff\, will join Jeffrey for what's sure to be a fantastic concert!\n\n\n\nhttp://www.thejeffreyjamesshow.com/\n\n\n\nHouse concerts are casual\, intimate\, solo or small ensemble musical performances designed around the notion of having friends over to your living room to enjoy live music (or in this case\, a gallery!) There is no advance ticket sale\, only a $10 suggested donation at the door. Beverages provided by Woodshed Ale House!
X-ALT-DESC;FMTTYPE=text/html:<span style="color:rgb(75\, 79\, 86)\; font-family:san francisco\,-apple-system\,system-ui\,.sfnstext-regular\,sans-serif\; font-size:14px">Jeffrey James has been traveling the world for seven years\, performing positive\, conscious\, feel-good music. Jeffrey carries a vibe and a message with his soulful melodies and his melodic rhythms. Spending winters in the Sierra Nevada mountains\, harvests in Northern California wine country\, and ample time on various Pacific Islands\, Jeffrey has a unique sound rich with island tones and dreamy imagery. Sauk Prairie native\, Maggie Poff\, will join Jeffrey for what&rsquo\;s sure to be a fantastic concert!</span><br />\n<br />\n<a href="https://l.facebook.com/l.php?u=http%3A%2F%2Fwww.thejeffreyjamesshow.com%2F&amp\;h=ATMIdHKKn3qH6sw_zvvX7_IwZJlPVVr1Uo1X-xc9llWDdrBZt6ffYw5tJ688uT7_MC0tVLCr2bxu36COBDkFUR1PX1UGeX2Maqb1JYspylG-IUuI8Hc5zbqMdwEONkGnr-EmQzt37DWKnMU&amp\;enc=AZNP2L-WWEPWvEL4xyqz4WNgxLdE5m3FonmB7UVVkvA496QxErEG3Z-3hQL49bC8gnk&amp\;s=1" rel="nofollow noopener nofollow" style="color: rgb(54\, 88\, 153)\; cursor: pointer\; text-decoration-line: none\; font-family: &quot\;San Francisco&quot\;\, -apple-system\, system-ui\, &quot\;.SFNSText-Regular&quot\;\, sans-serif\; font-size: 14px\; letter-spacing: -0.24px\;" target="_blank"><span style="font-family:inherit">http://</span><span style="font-family:inherit">www.thejeffreyjamesshow.com</span>/</a><br />\n<br />\n<span style="color:rgb(75\, 79\, 86)\; font-family:san francisco\,-apple-system\,system-ui\,.sfnstext-regular\,sans-serif\; font-size:14px">House concerts are casual\, intimate\, solo or small ensemble musical performances designed around the notion of having friends over to your living room to enjoy live music (or in this case\, a gallery!) There is no advance ticket sale\, only a $10 suggested donation at the door. Beverages provided by Woodshed Ale House!</span>
LOCATION:River Arts on Water Gallery 590 Water Street Prairie du Sac\, WI 53578
UID:e.1184.11819
SEQUENCE:3
DTSTAMP:20260425T034114Z
URL:http://members.saukprairie.com/events/details/house-concert-series-the-jeffrey-james-show-feature-maggie-poff-11819
END:VEVENT

END:VCALENDAR
