BEGIN:VCALENDAR
VERSION:2.0
PRODID:-//ChamberMaster//Event Calendar 2.0//EN
METHOD:PUBLISH
X-PUBLISHED-TTL:P3D
REFRESH-INTERVAL:P3D
CALSCALE:GREGORIAN
BEGIN:VEVENT
DTSTART:20191012T000000Z
DTEND:20191012T020000Z
X-MICROSOFT-CDO-ALLDAYEVENT:FALSE
SUMMARY:House Concert Series: The Kat Trio (Classical)
DESCRIPTION:The Ekaterinburg (Kat) Trio\n\nat River Arts on Water (downtown) | 590 Water St\, Prairie du Sac\, WI 53578\n\nFriday\, October 11th\, 2019 | 7pm-8pm\n\nDoors open at 6:15pm.\n\nThe violin-clarinet-piano ensemble from Ekaterinburg\, Russia was formed in May 1998 in\n\nEkaterinburg by three friends Victoria Gorbich (violin)\, Vladislav Gorbich (clarinet) and\n\nVasil Galiulin (piano). They had just graduated from the Ural State Music Conservatory.\n\nToday "The Kat Trio" is Victoria\, Vladislav and pianist Joseph Ross. Victoria and Vlad are\n\ndoctoral graduates of Arizona State University. Joseph is a graduate of Lawrence University\n\nand the Franz Liszt Academy of Music in Budapest\, Hungary. Their concerts showcase\n\nunique Russian arrangements and transpositions of timeless melodies and feature classical\n\nworks\, well-known inspirational songs\, and even American pop standards\, including Scott\n\nJoplin's rags.\n\nSponsored by Vintage Brewing Co. Sauk Prairie\n\n\nHouse concerts are casual\, intimate\, solo or small ensemble musical performances that take place right in the River Arts on Water Gallery.  No tickets are required\, but a $5-$10 donation at the door is appreciated.  All proceeds benefit River Arts Inc. programs.
X-ALT-DESC;FMTTYPE=text/html:<p><strong>The Ekaterinburg (Kat) Trio</strong></p>\n\n<p><strong>at River Arts on Water (downtown) | 590 Water St\, Prairie du Sac\, WI 53578</strong></p>\n\n<p>Friday\, October 11th\, 2019 | 7pm-8pm</p>\n\n<p><em>Doors open at 6:15pm.</em></p>\n\n<p>The violin-clarinet-piano ensemble from Ekaterinburg\, Russia was formed in May 1998 in<br />\nEkaterinburg by three friends&mdash\;Victoria Gorbich (violin)\, Vladislav Gorbich (clarinet) and<br />\nVasil Galiulin (piano). They had just graduated from the Ural State Music Conservatory.</p>\n\n<p>Today &ldquo\;The Kat Trio&rdquo\; is Victoria\, Vladislav and pianist Joseph Ross. Victoria and Vlad are<br />\ndoctoral graduates of Arizona State University. Joseph is a graduate of Lawrence University<br />\nand the Franz Liszt Academy of Music in Budapest\, Hungary. Their concerts showcase<br />\nunique Russian arrangements and transpositions of timeless melodies and feature classical<br />\nworks\, well-known inspirational songs\, and even American pop standards\, including Scott<br />\nJoplin&rsquo\;s rags.</p>\n\n<p>Sponsored by&nbsp\;<a href="https://vintagebrewingcompany.com/saukprairie/" style="margin: 0px\; padding: 0px\; color: rgb(193\, 193\, 204)\;">Vintage Brewing Co. Sauk Prairie</a></p>\n\n<hr />\n<p><em>House concerts are casual\, intimate\, solo or small ensemble musical performances that take place right in the River Arts on Water Gallery.&nbsp\; No tickets are required\, but a $5-$10 donation at the door is appreciated.&nbsp\; All proceeds benefit River Arts Inc. programs.</em></p>\n
LOCATION:River Arts on Water (downtown) | 590 Water St\, Prairie du Sac\, WI 53578
UID:e.1184.22736
SEQUENCE:3
DTSTAMP:20260423T095645Z
URL:http://members.saukprairie.com/events/details/house-concert-series-the-kat-trio-classical-22736
END:VEVENT

END:VCALENDAR
