BEGIN:VCALENDAR
VERSION:2.0
PRODID:-//ChamberMaster//Event Calendar 2.0//EN
METHOD:PUBLISH
X-PUBLISHED-TTL:P3D
REFRESH-INTERVAL:P3D
CALSCALE:GREGORIAN
BEGIN:VEVENT
DTSTART:20200314T000000Z
DTEND:20200314T020000Z
X-MICROSOFT-CDO-ALLDAYEVENT:FALSE
SUMMARY:House Concert Series: Triflemore (Celtic)
DESCRIPTION:Triflemore\n\nat River Arts on Water (downtown) | 590 Water St\, Prairie du Sac\, WI 53578\n\nFriday\, March 13th\, 2020 | 7pm-9pm\n\nDoors open at 6:15pm.\n\nTriflemore is a transatlantic folk duo\, including one from small-town America and the other from the northernmost islands of Scotland\, creating progressive folk with flavors of vintage British Isles folk baroque and Celtic. Analog singer-songwriters dedicated to crafting a crisp\, elegant interpretation of lo-fi simplicity\, they present their own contemplative poetry and melodies\, whilst giving a nod to more formal\, traditional folk stylings.\n\nFrom the first line of poetry written\, melody sewn together\, all the way to exploring new spaces to share words and notes\, they savor the creation of connection.\n\nInfluences: Jos  Gonz lez\, Nick Drake\, Sandy Denny\, M ire Brennan\, Karen Matheson\, Tony McManus\, Bon Iver\, Antoine Dufour\n\nSponsored by Vintage Brewing Co. Sauk Prairie\n\n \n\n\nHouse concerts are casual\, intimate\, solo or small ensemble musical performances that take place right in the River Arts on Water Gallery.  No tickets are required\, but a $5-$10 donation at the door is appreciated.  All proceeds benefit River Arts Inc. programs.
X-ALT-DESC;FMTTYPE=text/html:<p><strong>Triflemore</strong></p>\n\n<p><strong>at River Arts on Water (downtown) | 590 Water St\, Prairie du Sac\, WI 53578</strong></p>\n\n<p>Friday\, March 13th\, 2020 | 7pm-9pm</p>\n\n<p><em>Doors open at 6:15pm.</em></p>\n\n<p>Triflemore is a transatlantic folk duo\, including one from small-town America and the other from the northernmost islands of Scotland\, creating progressive folk with flavors of vintage British Isles folk baroque and Celtic. Analog singer-songwriters dedicated to crafting a crisp\, elegant interpretation of lo-fi simplicity\, they present their own contemplative poetry and melodies\, whilst giving a nod to more formal\, traditional folk stylings.</p>\n\n<p>From the first line of poetry written\, melody sewn together\, all the way to exploring new spaces to share words and notes\, they savor the creation of connection.</p>\n\n<p>Influences:&nbsp\;Jos&eacute\; Gonz&aacute\;lez\, Nick Drake\, Sandy Denny\, M&aacute\;ire Brennan\, Karen Matheson\, Tony McManus\, Bon Iver\, Antoine Dufour</p>\n\n<p>Sponsored by&nbsp\;<a href="https://vintagebrewingcompany.com/saukprairie/" style="margin: 0px\; padding: 0px\; color: rgb(193\, 193\, 204)\;">Vintage Brewing Co. Sauk Prairie</a></p>\n\n<p>&nbsp\;</p>\n\n<hr />\n<p><em>House concerts are casual\, intimate\, solo or small ensemble musical performances that take place right in the River Arts on Water Gallery.&nbsp\; No tickets are required\, but a $5-$10 donation at the door is appreciated.&nbsp\; All proceeds benefit River Arts Inc. programs.</em></p>\n\n<div>&nbsp\;</div>\n
LOCATION:River Arts on Water (downtown) | 590 Water St\, Prairie du Sac\, WI 53578
UID:e.1184.22739
SEQUENCE:3
DTSTAMP:20260423T025413Z
URL:http://members.saukprairie.com/events/details/house-concert-series-triflemore-celtic-22739
END:VEVENT

END:VCALENDAR
