BEGIN:VCALENDAR
VERSION:2.0
PRODID:-//ChamberMaster//Event Calendar 2.0//EN
METHOD:PUBLISH
X-PUBLISHED-TTL:P3D
REFRESH-INTERVAL:P3D
CALSCALE:GREGORIAN
BEGIN:VEVENT
DTSTART:20230825T000000Z
DTEND:20230825T020000Z
X-MICROSOFT-CDO-ALLDAYEVENT:FALSE
SUMMARY:House Concert: Westside Andy and Glenn Davis Duo
DESCRIPTION:Thursday\, August 24\, 2023 7pm\n\n$15\n\nat River Arts on Water (590 Water St\, downtown Prairie du Sac)\n\nWestside Andy Linderman first crossed paths with Glenn Davis in the 1990s when booking a show at the Silver Moon\, the club Glenn opened after a long career playing Chicago blues clubs. \n\nSome months later\, they received an invitation to appear together as a duo for a restaurant opening. Countless regional blues festivals\, weddings\, and backyard barbeques followed\, as well as regular dates at Quivey's Grove\, the old Angelic Brewing Company and\, each summer for nearly two decades now\, Music on the Deck at Otto's Restaurant and Bar in Madison\, all while continuing with their respective bands. To date\, they've recorded three self-produced CDs featuring Glenn's original music. \n\nGlenn never approaches songs in the same way and that freshness allows Andy to respond in kind. Simply put\, they finish each other's musical sentences. Their playful and spontaneous collaboration means that every time Andy and Glenn take the stage together\, you're going to hear something you haven't heard from them before.\n\nTickets on sale to members June 1st\n\nTickets on sale to the public June 23rd
X-ALT-DESC;FMTTYPE=text/html:<p><strong><span style="color:rgb(255\, 0\, 0)">Thursday</span>\, August 24\, 2023 7pm</strong></p>\n\n<p>$15</p>\n\n<p><strong>at River Arts on Water (590 Water St\, downtown Prairie du Sac)</strong></p>\n\n<p>Westside Andy Linderman first crossed paths with Glenn Davis in the 1990s when booking a show at the Silver Moon\, the club Glenn opened after a long career playing Chicago blues clubs.&nbsp\;</p>\n\n<p>Some months later\, they received an invitation to appear together as a duo for a restaurant opening. Countless regional blues festivals\, weddings\, and backyard barbeques followed\, as well as regular dates at Quivey&rsquo\;s Grove\, the old Angelic Brewing Company and\, each summer for nearly two decades now\, Music on the Deck at Otto&rsquo\;s Restaurant and Bar in Madison\, all while continuing with their respective bands. To date\, they&rsquo\;ve recorded three self-produced CDs featuring Glenn&rsquo\;s original music.&nbsp\;</p>\n\n<p>Glenn never approaches songs in the same way and that freshness allows Andy to respond in kind. Simply put\, they finish each other&rsquo\;s musical sentences. Their playful and spontaneous collaboration means that every time Andy and Glenn take the stage together\, you&rsquo\;re going to hear something you haven&rsquo\;t heard from them before.</p>\n\n<p><strong><span style="color:rgb(255\, 0\, 0)">Tickets on sale to<span style="color:rgb(0\, 0\, 255)">&nbsp\;<a href="http://www.riverartsinc.org/support" style="padding: 0px\; margin: 0px\; color: rgb(0\, 0\, 255)\;">members</a>&nbsp\;</span>June 1st</span></strong></p>\n\n<p><strong><span style="color:rgb(255\, 0\, 0)">Tickets on sale to the public June 23rd</span></strong></p>\n
LOCATION:River Arts on Water Gallery. 590 Water Street\, Prairie du Sac\, WI\, 53578
UID:e.1184.30754
SEQUENCE:3
DTSTAMP:20260420T102450Z
URL:http://members.saukprairie.com/events/details/house-concert-westside-andy-and-glenn-davis-duo-30754
END:VEVENT

END:VCALENDAR
