BEGIN:VCALENDAR
VERSION:2.0
PRODID:-//ChamberMaster//Event Calendar 2.0//EN
METHOD:PUBLISH
X-PUBLISHED-TTL:P3D
REFRESH-INTERVAL:P3D
CALSCALE:GREGORIAN
BEGIN:VEVENT
DTSTART:20190529T233000Z
DTEND:20190530T003000Z
X-MICROSOFT-CDO-ALLDAYEVENT:FALSE
SUMMARY:How Charismatic Cranes Inspire Peace and Conservation
DESCRIPTION:Cranes are depicted everywhere. They appear on ancient pieces of art\, are featured in many cultural folktales and are the inspiration for the origami crane a symbol of universal peace. Although they are prominent in art\, many of their populations in the wild are declining. Of the 15 species of cranes in the world 11 are threatened with endangerment.\nJoin a naturalist from the International Crane Foundation at the Ruth Culver Community Library Wednesday\, May 29 at 6:30 p.m. and learn how these majestic animals are symbols peace and inspire communities to work together to encourage ecosystem health. The naturalist will talk about the roll the International Crane Foundation plays in bringing together partners from around the world to better the areas where cranes and humans inhabit.  Thank you to the Friends of the Ruth Culver Community Library for sponsoring this event.
X-ALT-DESC;FMTTYPE=text/html:Cranes are depicted everywhere. They appear on ancient pieces of art\, are featured in many cultural folktales and are the inspiration for the origami crane a symbol of universal peace. Although they are prominent in art\, many of their populations in the wild are declining. Of the 15 species of cranes in the world 11 are threatened with endangerment.\n<p>Join a naturalist from the International Crane Foundation at the Ruth Culver Community Library Wednesday\, May 29 at 6:30 p.m. and learn how these majestic animals are symbols peace and inspire communities to work together to encourage ecosystem health. The naturalist will talk about the roll the International Crane Foundation plays in bringing together partners from around the world to better the areas where cranes and humans inhabit.&nbsp\; Thank you to the Friends of the Ruth Culver Community Library for sponsoring this event.</p>\n
LOCATION:Ruth Culver Community Library 540 Water Street\, Prairie du Sac
UID:e.1184.22058
SEQUENCE:3
DTSTAMP:20260423T171743Z
URL:http://members.saukprairie.com/events/details/how-charismatic-cranes-inspire-peace-and-conservation-22058
END:VEVENT

END:VCALENDAR
