BEGIN:VCALENDAR
VERSION:2.0
PRODID:-//ChamberMaster//Event Calendar 2.0//EN
METHOD:PUBLISH
X-PUBLISHED-TTL:P3D
REFRESH-INTERVAL:P3D
CALSCALE:GREGORIAN
BEGIN:VEVENT
DTSTART:20190509T193000Z
DTEND:20190509T220000Z
X-MICROSOFT-CDO-ALLDAYEVENT:FALSE
SUMMARY:How One Attitude\, One Action\, And One Person Can Change the World
DESCRIPTION:Presented by John O'Leary\, #1 National Bestselling Author and Speaker.\n\nExpected to die\, John O'Leary now teaches others how to truly live.\n\n\n\nJohn was a curious nine-year-old boy. Playing with fire and gasoline\, he created a massive explosion in his garage and was burned on 100% of his body. Given less than 1% chance of survival\, John is proof of the power of the human spirit.\n\nSurprisingly\, this "survivor" story isn't focused on John   rather\, it is a celebration of heroes who intimately served him and his family. From a dedicated Hall of Fame sports announcer to a visionary burn nurse (and countless others)\, every individual involved in this 1987 fire teaches us this truth: one person can make a profound difference in the lives of others.\n\nWith emotional storytelling and unexpected humor\, John reminds audiences of the significance of daily attitudes\, the power of gratitude\, and the impact of serving others with courage. He reawakens audiences to realize the gift of today and the possibility of tomorrow.\n\n\n\nBe Inspired to:\n\nLive a more focused and happy life\n\nIncrease your creativity and productivity\n\nDramatically improve your relationships and impact on the world
X-ALT-DESC;FMTTYPE=text/html:<p><strong><span style="color:inherit\; font-family:inherit\; font-size:inherit">Presented by John O&rsquo\;Leary\, #1 National Bestselling Author and Speaker.</span></strong></p>\n\n<p>Expected to die\, John O&rsquo\;Leary now teaches others how to truly live.<br />\n<br />\nJohn was a curious nine-year-old boy. Playing with fire and gasoline\, he created a massive explosion in his garage and was burned on 100% of his body. Given less than 1% chance of survival\, John is proof of the power of the human spirit.</p>\n\n<p><span style="color:inherit\; font-family:inherit\; font-size:inherit">Surprisingly\, this &ldquo\;survivor&rdquo\; story isn&rsquo\;t focused on John &ndash\; rather\, it is a celebration of heroes who intimately served him and his family</span>. From a dedicated Hall of Fame sports announcer to a visionary burn nurse (and countless others)\, every individual involved in this 1987 fire teaches us this truth: one person can make a profound difference in the lives of others.</p>\n\n<p>With emotional storytelling and unexpected humor\, John reminds audiences of the significance of daily attitudes\, the power of gratitude\, and the impact of serving others with courage. He reawakens audiences to realize the gift of today and the possibility of tomorrow.<br />\n<br />\n<strong><span style="color:inherit\; font-family:inherit\; font-size:inherit">Be Inspired to:</span></strong></p>\n\n<p>Live a more focused and happy life<br />\nIncrease your creativity and productivity<br />\nDramatically improve your relationships and impact on the world&nbsp\;</p>\n
LOCATION:Fluno Center Auditorium 601 University Ave\, Madison\, WI 53715
UID:e.1184.22076
SEQUENCE:3
DTSTAMP:20260423T171813Z
URL:http://members.saukprairie.com/events/details/how-one-attitude-one-action-and-one-person-can-change-the-world-22076
END:VEVENT

END:VCALENDAR
