BEGIN:VCALENDAR
VERSION:2.0
PRODID:-//ChamberMaster//Event Calendar 2.0//EN
METHOD:PUBLISH
X-PUBLISHED-TTL:P3D
REFRESH-INTERVAL:P3D
CALSCALE:GREGORIAN
BEGIN:VEVENT
DTSTART:20180518T000000Z
DTEND:20180518T013000Z
X-MICROSOFT-CDO-ALLDAYEVENT:FALSE
SUMMARY:How to Ace Your Job Interview
DESCRIPTION:You've found a job that you are interested in and you've applied. Now\, the company has called you back and left a voicemail. Learn a step by step guide of best practices from returning the call to set up the interview\, what to wear\, what to say and most importantly how to get the offer! Bring your notepads-there will be a lot of interview tips shared!
X-ALT-DESC;FMTTYPE=text/html:<span style="color: rgb(80\, 0\, 80)\; font-family: HelveticaNeue\, &quot\;Helvetica Neue&quot\;\, Helvetica\, Arial\, &quot\;Lucida Grande&quot\;\, sans-serif\;">You&#39\;ve found a job that you are interested in and you&#39\;ve applied. Now\, the company has called you back and left a voicemail. Learn a step by step guide of best practices from returning the call to set up the interview\, what to wear\, what to say and most importantly how to get the offer! Bring your notepads-there will be a lot of interview tips shared!</span>
LOCATION:Sauk Prairie Community Center Monroe Street Room
UID:e.1184.17772
SEQUENCE:3
DTSTAMP:20260424T112133Z
URL:http://members.saukprairie.com/events/details/how-to-ace-your-job-interview-17772
END:VEVENT

END:VCALENDAR
