BEGIN:VCALENDAR
VERSION:2.0
PRODID:-//ChamberMaster//Event Calendar 2.0//EN
METHOD:PUBLISH
X-PUBLISHED-TTL:P3D
REFRESH-INTERVAL:P3D
CALSCALE:GREGORIAN
BEGIN:VEVENT
DTSTART:20210127T160000Z
DTEND:20210127T173000Z
X-MICROSOFT-CDO-ALLDAYEVENT:FALSE
SUMMARY:HUMAN TRAFFICKING IN RURAL WISCONSIN
DESCRIPTION:HUMAN TRAFFICKING IN RURAL WISCONSIN:\n\nRECOGNIZING AN EPIDEMIC\n\n\n\nPRESENTED BY SARAH YANKE\n\n\n\nWHEN\n\nWednesday\, January 27\, 2021\n\n10:00 11:30 AM\n\n\n\nWHERE\n\nWebinar via ZOOM link\n\nFree of charge\n\nREGISTER HERE:\n\nhttps://www.surveymonkey.com/r/HTJan2021\n\n\n\nThis seminar will go beyond the basic issues of human trafficking and how it is affecting Wisconsin   especially the rural communities.\n\nTopics will include:\n\n  An overview of on-line trafficking\n\n  Trafficking Myths + Misinformation vs. Facts\n\n  How Trafficking impacts marginalized communities\n\n  Tips for citizens who want to help\n\n  Community topics and a Q&A section\n\n\n\nQUESTIONS:\n\nContact Deb at 608.356.9123 ext. 120 or debb@hopehousescw.org
X-ALT-DESC;FMTTYPE=text/html:HUMAN TRAFFICKING IN RURAL WISCONSIN:<br />\nRECOGNIZING AN EPIDEMIC<br />\n<br />\nPRESENTED BY SARAH YANKE<br />\n<br />\nWHEN<br />\nWednesday\, January 27\, 2021<br />\n10:00&mdash\;11:30 AM<br />\n<br />\nWHERE<br />\nWebinar via ZOOM link<br />\nFree of charge<br />\nREGISTER HERE:<br />\nhttps://www.surveymonkey.com/r/HTJan2021<br />\n<br />\nThis seminar will go beyond the basic issues of human trafficking and how it is affecting Wisconsin &mdash\; especially the rural communities.<br />\nTopics will include:<br />\n&bull\; An overview of on-line trafficking<br />\n&bull\; Trafficking Myths + Misinformation vs. Facts<br />\n&bull\; How Trafficking impacts marginalized communities<br />\n&bull\; Tips for citizens who want to help<br />\n&bull\; Community topics and a Q&amp\;A section<br />\n<br />\nQUESTIONS:<br />\nContact Deb at 608.356.9123 ext. 120 or debb@hopehousescw.org
LOCATION:
UID:e.1184.26169
SEQUENCE:3
DTSTAMP:20260422T104428Z
URL:http://members.saukprairie.com/events/details/human-trafficking-in-rural-wisconsin-26169
END:VEVENT

END:VCALENDAR
