BEGIN:VCALENDAR
VERSION:2.0
PRODID:-//ChamberMaster//Event Calendar 2.0//EN
METHOD:PUBLISH
X-PUBLISHED-TTL:P3D
REFRESH-INTERVAL:P3D
CALSCALE:GREGORIAN
BEGIN:VEVENT
DTSTART:20180303T230000Z
DTEND:20180304T040000Z
X-MICROSOFT-CDO-ALLDAYEVENT:FALSE
SUMMARY:Hunting for a Cure
DESCRIPTION:TICKETS ARE $75 or 2 for $100\n\nEACH TICKET INCLUDES:\n\nBEER\n\nBEER AND APPETIZER PAIRINGS\n\nWATER\n\nCASH BAR\n\n5 RAFFLE TICKETS\n\nA CORONA JIMMY V HAT\n\n\n\nHunting-2 sessions\, Noon and 2:30 start times\n\n  14 Groups available\, max of 5 per group\n\n  $1500/group\n\no Guided 25 bird hunt\n\no Bird Cleaning Included\n\no 5 raffle tickets/person in group\n\no Tickets to event for group\n\nField Sponsorship\n\n  14 available\n\n  $1500\n\no Banner at Field Entrance\n\no 5 raffle tickets\n\no 5 tickets to event\n\nHunting and Field Sponsorship\n\no $2500\n\nGun Raffle with additional Raffle items:\n\n*Additional tickets available for purchase.\n\no Browning X Bolt 270\n\no 2 Winchester SX3 12 Guages\n\no Savage Axis 2506\n\no Weatherby Vanguard 7mm\n\no Ruger 45\n\no SCCY Muddygirl 9mm\n\no Browning Buck Mk II \n\n\n\nContact Cedar Valley for sponsorship\, hunting groups and event tickets.\n\nCedarvalleyhunting@yahoo.com | 608-583-3570
X-ALT-DESC;FMTTYPE=text/html:TICKETS ARE $75 or 2 for $100<br />\nEACH TICKET INCLUDES:<br />\nBEER<br />\nBEER AND APPETIZER PAIRINGS<br />\nWATER<br />\nCASH BAR<br />\n5 RAFFLE TICKETS<br />\nA CORONA JIMMY V HAT<br />\n<br />\nHunting-2 sessions\, Noon and 2:30 start times<br />\n&middot\; 14 Groups available\, max of 5 per group<br />\n&middot\; $1500/group<br />\no Guided 25 bird hunt<br />\no Bird Cleaning Included<br />\no 5 raffle tickets/person in group<br />\no Tickets to event for group<br />\nField Sponsorship<br />\n&middot\; 14 available<br />\n&middot\; $1500<br />\no Banner at Field Entrance<br />\no 5 raffle tickets<br />\no 5 tickets to event<br />\nHunting and Field Sponsorship<br />\no $2500<br />\nGun Raffle with additional Raffle items:<br />\n*Additional tickets available for purchase.<br />\no Browning X Bolt 270<br />\no 2 Winchester SX3 12 Guages<br />\no Savage Axis 2506<br />\no Weatherby Vanguard 7mm<br />\no Ruger 45<br />\no SCCY Muddygirl 9mm<br />\no Browning Buck Mk II&nbsp\;<br />\n<br />\nContact Cedar Valley for sponsorship\, hunting groups and event tickets.<br />\nCedarvalleyhunting@yahoo.com | 608-583-3570
LOCATION:CEDAR VALLEY HUNTING LODGE 3731 DOLAN RD - SPRING GREEN\, WI
UID:e.1184.14685
SEQUENCE:3
DTSTAMP:20260424T143754Z
URL:http://members.saukprairie.com/events/details/hunting-for-a-cure-14685
END:VEVENT

END:VCALENDAR
