BEGIN:VCALENDAR
VERSION:2.0
PRODID:-//ChamberMaster//Event Calendar 2.0//EN
METHOD:PUBLISH
X-PUBLISHED-TTL:P3D
REFRESH-INTERVAL:P3D
CALSCALE:GREGORIAN
BEGIN:VEVENT
DTSTART:20190302T190000Z
DTEND:20190303T040000Z
X-MICROSOFT-CDO-ALLDAYEVENT:FALSE
SUMMARY:Hunting for a Cure
DESCRIPTION:TICKETS ARE $75 or 2 for $100\n\nIncludes: Dinner\, Beer\, 5 Raffle Tickets\n\n\n\nAdditional raffle tickets available for purchase day of the event\n\n\n\nScopes\, Range Finders\, Wilderness & Kalahari Gift Cards\, & MORE!\n\n\n\nGuns to be raffles off:\n\nHand Guns\, Ruger Mark 4\, Ruger 9mm\, Ruger 45\, Ruger.357\n\n\n\nRifles:\n\nSavage Axis 25-06\, Browning A Bolt 300\, Winchester Model 70 30-06\n\n\n\nShotguns:\n\nBrowning Maxus 12ga\, Winchester 5x4 12ga\, Wincehster 5x3 20ga\, Winchester 5xP Long Beard 20 ga\n\n\n\nContact Cedar Valley for sponsorship\, hunting groups and event tickets.\n\nCedarvalleyhunting@yahoo.com | 608-583-3570
X-ALT-DESC;FMTTYPE=text/html:TICKETS ARE $75 or 2 for $100<br />\nIncludes: Dinner\, Beer\, 5 Raffle Tickets<br />\n<br />\nAdditional raffle tickets available for purchase day of the event<br />\n<br />\nScopes\, Range Finders\, Wilderness &amp\; Kalahari Gift Cards\, &amp\; MORE!<br />\n<br />\nGuns to be raffles off:<br />\nHand Guns\, Ruger Mark 4\, Ruger 9mm\, Ruger 45\, Ruger.357<br />\n<br />\nRifles:<br />\nSavage Axis 25-06\, Browning A Bolt 300\, Winchester Model 70 30-06<br />\n<br />\nShotguns:<br />\nBrowning Maxus 12ga\, Winchester 5x4 12ga\, Wincehster 5x3 20ga\, Winchester 5xP Long Beard 20 ga<br />\n<br />\nContact Cedar Valley for sponsorship\, hunting groups and event tickets.<br />\nCedarvalleyhunting@yahoo.com | 608-583-3570
LOCATION:CEDAR VALLEY HUNTING LODGE 3731 DOLAN RD - SPRING GREEN\, WI
UID:e.1184.22006
SEQUENCE:3
DTSTAMP:20260423T201514Z
URL:http://members.saukprairie.com/events/details/hunting-for-a-cure-22006
END:VEVENT

END:VCALENDAR
