BEGIN:VCALENDAR
VERSION:2.0
PRODID:-//ChamberMaster//Event Calendar 2.0//EN
METHOD:PUBLISH
X-PUBLISHED-TTL:P3D
REFRESH-INTERVAL:P3D
CALSCALE:GREGORIAN
BEGIN:VEVENT
DTSTART;VALUE=DATE:20190228
DTEND;VALUE=DATE:20190301
TRANSP:TRANSPARENT
X-MICROSOFT-CDO-ALLDAYEVENT:TRUE
SUMMARY:Hunting for a Home
DESCRIPTION:By participating in the 2019 Hunting for a Home Fundraiser held at Cedar Valley Preserve\, you are demonstrating support for an organization that works tirelessly to end the cycle of poverty. Please know that there is more than one way to help. Visit salvationarmydanecounty.org to learn more.\n\n\n\nClick here for the brochure with more details!\n\n\n\nCedarvalleyhunting@yahoo.com | 608-583-3570
X-ALT-DESC;FMTTYPE=text/html:By participating in the 2019 Hunting for a Home Fundraiser held at Cedar Valley Preserve\, you are demonstrating support for an organization that works tirelessly to end the cycle of poverty. Please know that there is more than one way to help. Visit salvationarmydanecounty.org to learn more.<br />\n<br />\n<strong><a href="https://chambermaster.blob.core.windows.net/userfiles/UserFiles/chambers/1184/File/HuntingforaHome2019Brochure.pdf">Click here for the brochure with more details!</a></strong><br />\n<br />\nCedarvalleyhunting@yahoo.com | 608-583-3570
LOCATION:CEDAR VALLEY HUNTING LODGE 3731 DOLAN RD - SPRING GREEN\, WI
UID:e.1184.21991
SEQUENCE:3
DTSTAMP:20260423T212955Z
URL:http://members.saukprairie.com/events/details/hunting-for-a-home-21991
END:VEVENT

END:VCALENDAR
