BEGIN:VCALENDAR
VERSION:2.0
PRODID:-//ChamberMaster//Event Calendar 2.0//EN
METHOD:PUBLISH
X-PUBLISHED-TTL:P3D
REFRESH-INTERVAL:P3D
CALSCALE:GREGORIAN
BEGIN:VEVENT
DTSTART:20180605T213000Z
DTEND:20180606T013000Z
X-MICROSOFT-CDO-ALLDAYEVENT:FALSE
SUMMARY:Hwy 12 Market
DESCRIPTION:The Hwy 12 Market is an outlet for Wisconsin-produced homegrown fruits\, vegetables\, meats\, cheese\, eggs\, bakery products\, cider\, maple syrup\, honey\, fresh and dried flowers\, herbs and herbal products\, bedding plants\, houseplants\, nursery stock\, jams and jellies\, pickles\, and other craft vendors that have items to sell. \n\n \n\nIt will be held every Tuesday in June in conjunction with June Tunes from 4:30pm   8:30pm in Meyer Oak Grove Park\, Sauk City. \n\n \n\nLooking to be a vendor? Details here  http://www.saukprairie.com/hwy-12-market
X-ALT-DESC;FMTTYPE=text/html:<p style="border: 0px\; font-family: Asap\, sans-serif\; font-size: 12px\; margin: 0px\; outline: 0px\; padding: 0px\; vertical-align: baseline\; color: rgb(27\, 24\, 25)\; line-height: 18px\; background-color: rgb(244\, 243\, 240)\;"><span style="font-size:14px\;">The Hwy 12 Market is an outlet for Wisconsin-produced homegrown fruits\, vegetables\, meats\, cheese\, eggs\, bakery products\, cider\, maple syrup\, honey\, fresh and dried flowers\, herbs and herbal products\, bedding plants\, houseplants\, nursery stock\, jams and jellies\, pickles\, and other craft vendors that have items to sell.&nbsp\;</span><br />\n&nbsp\;</p>\n\n<p style="border: 0px\; font-family: Asap\, sans-serif\; font-size: 12px\; margin: 0px\; outline: 0px\; padding: 0px\; vertical-align: baseline\; color: rgb(27\, 24\, 25)\; line-height: 18px\; background-color: rgb(244\, 243\, 240)\;"><span style="font-size:14px\;">It will be held every Tuesday in June in conjunction with June Tunes from 4:30pm &ndash\; 8:30pm in Meyer Oak Grove Park\, Sauk City.&nbsp\;</span><br />\n&nbsp\;</p>\n\n<p style="border: 0px\; font-family: Asap\, sans-serif\; font-size: 12px\; margin: 0px\; outline: 0px\; padding: 0px\; vertical-align: baseline\; color: rgb(27\, 24\, 25)\; line-height: 18px\; background-color: rgb(244\, 243\, 240)\;"><span style="font-size:14px\;">Looking to be a vendor? Details here&hellip\;&nbsp\;<a data-lynx-mode="asynclazy" data-lynx-uri="https://l.facebook.com/l.php?u=http%3A%2F%2Fwww.saukprairie.com%2Fhwy-12-market&amp\;h=ATNmH-UR-D90ynVATeWVBQx6NCxChoeMYX2XYR9rDL0L3xPa6c_jZgVFFAP6g8vXcF-wHxvU5WrdSGvkOFwRobYQDKWjqARAn1tmzrnYmBb0ihBi" href="http://www.saukprairie.com/hwy-12-market" rel="nofollow noopener" style="border: 0px\; font-style: inherit\; font-weight: inherit\; margin: 0px\; outline: 0px\; padding: 0px\; vertical-align: baseline\; color: rgb(153\, 153\, 153)\; line-height: 18px\; text-decoration-line: none\;" target="_blank">http://<wbr />www.saukprairie.com/<wbr />hwy-12-market</a></span></p>\n
LOCATION:
UID:e.1184.18146
SEQUENCE:3
DTSTAMP:20260424T113341Z
URL:http://members.saukprairie.com/events/details/hwy-12-market-18146
END:VEVENT

END:VCALENDAR
