BEGIN:VCALENDAR
VERSION:2.0
PRODID:-//ChamberMaster//Event Calendar 2.0//EN
METHOD:PUBLISH
X-PUBLISHED-TTL:P3D
REFRESH-INTERVAL:P3D
CALSCALE:GREGORIAN
BEGIN:VEVENT
DTSTART:20180731T223000Z
DTEND:20180801T013000Z
X-MICROSOFT-CDO-ALLDAYEVENT:FALSE
SUMMARY:Hwy 12 Market
DESCRIPTION:The Hwy 12 Market is an outlet for Wisconsin-produced homegrown fruits\, vegetables\, meats\, cheese\, eggs\, bakery products\, cider\, maple syrup\, honey\, fresh and dried flowers\, herbs and herbal products\, bedding plants\, houseplants\, nursery stock\, jams and jellies\, pickles\, and other craft vendors that have items to sell.
X-ALT-DESC;FMTTYPE=text/html:<p style="border: 0px\; font-family: Asap\, sans-serif\; font-size: 12px\; margin: 0px\; outline: 0px\; padding: 0px\; vertical-align: baseline\; color: rgb(27\, 24\, 25)\; line-height: 18px\; background-color: rgb(244\, 243\, 240)\;"><span style="font-size:14px\;">The Hwy 12 Market is an outlet for Wisconsin-produced homegrown fruits\, vegetables\, meats\, cheese\, eggs\, bakery products\, cider\, maple syrup\, honey\, fresh and dried flowers\, herbs and herbal products\, bedding plants\, houseplants\, nursery stock\, jams and jellies\, pickles\, and other craft vendors that have items to sell.&nbsp\;</span></p>\n
LOCATION:
UID:e.1184.20478
SEQUENCE:3
DTSTAMP:20260424T082729Z
URL:http://members.saukprairie.com/events/details/hwy-12-market-20478
END:VEVENT

END:VCALENDAR
