BEGIN:VCALENDAR
VERSION:2.0
PRODID:-//ChamberMaster//Event Calendar 2.0//EN
METHOD:PUBLISH
X-PUBLISHED-TTL:P3D
REFRESH-INTERVAL:P3D
CALSCALE:GREGORIAN
BEGIN:VEVENT
DTSTART:20180213T010000Z
DTEND:20180213T040000Z
X-MICROSOFT-CDO-ALLDAYEVENT:FALSE
SUMMARY:I’m A Good Little Devil: February 12\, 2018
DESCRIPTION:A cabaret revue about the early Broadway music hall era full of glamour\, fun\, and joy!\n\nDATE/TIME:Monday\, February 12\, 2018 7:00pm\n\nVENUE: The River Arts Center (105-9th Street\, Prairie du Sac)\n\nPRICE: $15\n\n \n\n\nCome and catch an exclusive one night only show featuring stars from France & Broadway! "I'm a Good Little Devil!" is an outrageously entertaining\, colorful\, and historical telling of the life of Gaby Deslys\, an emancipated performer from Marseille who became the most famous music hall star of the early 20th century\, produced by and starring Jean-Christophe Born\, also featuring Broadway star Mark Nadler\, and the gorgeous Perrine Cabassud.\n\nMark Nadler is an internationally acclaimed singer\, pianist\, tap-dancer and comedian. He is the recipient of the 2015 Broadway World Editor's Choice Award for Entertainer of the Year. His recent off-Broadway hit\, I'm a Stranger Here Myself\, has been honored with the 2013 Nightlife Award and was nominated for a Drama Desk Award and two Broadway World Awards. The show was presented at The Adelaide Cabaret Festival in Adelaide\, Australia\, where it was nominated for the prestigious Helpmann Award. Additionally\, Mark Nadler's Broadway Hootenanny has become a staple of the Adelaide Festival. Mr. Nadler has performed at Carnegie Hall with the New York Pops Orchestra and has been a soloist with the Baltimore Symphony\, Indianapolis Symphony\, Oregon Symphony\, National Arts Centre Symphony in Ottawa and others. At Philadelphia's 14\,000 seat Mann Center for the Performing Arts\, Mark did a solo two-act evening with the New York Pops\, as well as Three Singular Sensations with Marvin Hamlisch and Martin Short.\n\nPerrine Cabassud \n\nAfter a classical and modern training in dance\, she studied dramatic arts with Michel Azama\, Olivier PY\, Gilbert Barba and Christian Benedetti.\n\nShe graduated from the Conservatoire National of Marseille\, with a first prize in Opera the year 2007. She often works with French operatic companies and sings soprano roles coloratura such as Olympia in "Les Contes d'Hoffman" by Offenbach\, Sophie in "Werther" by Massenet\, the Fairy in "Cendrillon" by MASSENET\, Cunegonde in "Candice by BERNSTEIN"\n\nJean Christophe Born\n\nBorn in France\, he spent his youth in Gabon\, Africa. At the age of sixteen\, he attended Sauk Prairie High School\, where he learned about operas and musicals. Regularly chosen to be part of co-productions\, of tours\, nationals and internationals\, Jean-Christophe has performed in more than fifteen countries.\n\nHe was part of the Peter Brooks' internationally acclaimed "The Magic Flute" until April 2012. In 2013 he sang Tamino (Die Zauberfl te) Op ra de Nice (Dir. F. Deloche)\, and in 2013/14 he was a member of the Opera Studio (Strasbourg   Colmar) and followed the masterclasses of  Marie-Ange Todorovitch\,  Jean-Philippe Lafont\, and Umberto Finazzi (repetitor alla Scala). He has also performed the lead role in Aladin et la Lampe Merveilleuse\, Nino Rota\, Pinocchio\, Cavallari/Melozzi and La Colombe\, Charles Gounod for the Strasbourg National Opera. For the 2014/15 season he was part of Les Caprices de Marianne\, Henri Sauget on tour in most of the Opera houses of France. Last Season he sang Leandre in the Medecin Malgr  lui\, Charles Gounod at Saint etienne Opera and for the season 2016/2017 he is Marius in Les Mis rables for a national tour in France.
X-ALT-DESC;FMTTYPE=text/html:<p style="margin: 0px 0px 10px\; padding: 0px\; color: rgb(0\, 0\, 0)\; font-family: Arial\, Helvetica\, sans-serif\;">A&nbsp\;cabaret&nbsp\;revue about the early&nbsp\;Broadway music hall era full&nbsp\;of glamour\, fun\, and joy!</p>\n\n<p style="margin: 0px 0px 10px\; padding: 0px\; color: rgb(0\, 0\, 0)\; font-family: Arial\, Helvetica\, sans-serif\;"><span style="margin: 0px\; padding: 0px\; font-weight: 700\;">DATE/TIME</span>:Monday\, February 12\, 2018 7:00pm</p>\n\n<p style="margin: 0px 0px 10px\; padding: 0px\; color: rgb(0\, 0\, 0)\; font-family: Arial\, Helvetica\, sans-serif\;"><span style="margin: 0px\; padding: 0px\; font-weight: 700\;">VENUE</span>: The River Arts Center (105-9th Street\, Prairie du Sac)</p>\n\n<p style="margin: 0px 0px 10px\; padding: 0px\; color: rgb(0\, 0\, 0)\; font-family: Arial\, Helvetica\, sans-serif\;"><span style="margin: 0px\; padding: 0px\; font-weight: 700\;">PRICE</span>: $15</p>\n\n<p style="margin: 0px 0px 10px\; padding: 0px\; color: rgb(0\, 0\, 0)\; font-family: Arial\, Helvetica\, sans-serif\;">&nbsp\;</p>\n\n<hr style="margin: 0px\; padding: 0px\; color: rgb(0\, 0\, 0)\; background-color: rgb(0\, 0\, 0)\; border-top: 0px\; height: 1px\; width: 1040px\; font-family: Arial\, Helvetica\, sans-serif\;" />\n<p style="margin: 0px 0px 10px\; padding: 0px\; color: rgb(0\, 0\, 0)\; font-family: Arial\, Helvetica\, sans-serif\;">Come and catch an exclusive one night only show featuring stars from France &amp\; Broadway! &ldquo\;I&rsquo\;m a Good Little Devil!&rdquo\; is an outrageously entertaining\, colorful\, and historical telling of the life of Gaby Deslys\, an emancipated performer from Marseille who became the most famous music hall star of the early 20th century\, produced by and starring Jean-Christophe Born\, also featuring Broadway star Mark Nadler\, and the gorgeous Perrine Cabassud.</p>\n\n<p style="margin: 0px 0px 10px\; padding: 0px\; color: rgb(0\, 0\, 0)\; font-family: Arial\, Helvetica\, sans-serif\;"><span style="margin: 0px\; padding: 0px\; font-weight: 700\;">Mark Nadler</span>&nbsp\;is an internationally acclaimed singer\, pianist\, tap-dancer and comedian. He is the recipient of the&nbsp\;<a href="https://maps.google.com/?q=2015+Broadway&amp\;entry=gmail&amp\;source=g" style="margin: 0px\; padding: 0px\; color: rgb(193\, 193\, 204)\;">2015 Broadway</a>&nbsp\;World Editor&rsquo\;s Choice Award for Entertainer of the Year. His recent off-Broadway hit\,&nbsp\;<em style="margin: 0px\; padding: 0px\;">I&rsquo\;m a Stranger Here Myself</em>\, has been honored with the 2013 Nightlife Award&nbsp\;and was nominated for a Drama Desk Award and two Broadway World Awards. The show was presented at The Adelaide Cabaret Festival in Adelaide\, Australia\, where it was nominated for the prestigious Helpmann Award. Additionally\,&nbsp\;<em style="margin: 0px\; padding: 0px\;">Mark Nadler&rsquo\;s Broadway Hootenanny</em>&nbsp\;has become a staple of the Adelaide Festival.&nbsp\;Mr. Nadler has performed at Carnegie Hall with the New York Pops Orchestra and has been a soloist with the Baltimore Symphony\, Indianapolis Symphony\, Oregon Symphony\, National Arts Centre Symphony in Ottawa and others. At Philadelphia&rsquo\;s 14\,000 seat Mann Center for the Performing Arts\, Mark did a solo two-act evening with the New York Pops\, as well as&nbsp\;<em style="margin: 0px\; padding: 0px\;">Three Singular Sensations</em>&nbsp\;with Marvin Hamlisch and Martin Short.</p>\n\n<p style="margin: 0px 0px 10px\; padding: 0px\; color: rgb(0\, 0\, 0)\; font-family: Arial\, Helvetica\, sans-serif\;"><span style="margin: 0px\; padding: 0px\; font-weight: 700\;">Perrine Cabassud&nbsp\;</span></p>\n\n<p style="margin: 0px 0px 10px\; padding: 0px\; color: rgb(0\, 0\, 0)\; font-family: Arial\, Helvetica\, sans-serif\;">After a classical and modern training in dance\, she studied dramatic arts with Michel Azama\, Olivier PY\, Gilbert Barba and Christian Benedetti.</p>\n\n<p style="margin: 0px 0px 10px\; padding: 0px\; color: rgb(0\, 0\, 0)\; font-family: Arial\, Helvetica\, sans-serif\;">She graduated from the Conservatoire National of Marseille\, with a&nbsp\;first prize in Opera the year 2007.&nbsp\;She often works with French operatic companies and sings soprano roles coloratura&nbsp\;such as Olympia in &ldquo\;Les Contes d&rsquo\;Hoffman&rdquo\; by Offenbach\, Sophie in &ldquo\;Werther&rdquo\; by Massenet\, the Fairy in &ldquo\;Cendrillon&rdquo\; by MASSENET\, Cunegonde in &ldquo\;Candice by BERNSTEIN&rdquo\;</p>\n\n<p style="margin: 0px 0px 10px\; padding: 0px\; color: rgb(0\, 0\, 0)\; font-family: Arial\, Helvetica\, sans-serif\;"><span style="margin: 0px\; padding: 0px\; font-weight: 700\;">Jean Christophe Born</span></p>\n\n<p style="margin: 0px 0px 10px\; padding: 0px\; color: rgb(0\, 0\, 0)\; font-family: Arial\, Helvetica\, sans-serif\;">Born in France\, he spent his youth in Gabon\, Africa.&nbsp\;At the age of sixteen\, he attended Sauk Prairie High School\, where he learned about operas and musicals.&nbsp\;Regularly chosen to be part of co-productions\, of tours\, nationals and internationals\, Jean-Christophe has performed in more than fifteen countries.</p>\n\n<p style="margin: 0px 0px 10px\; padding: 0px\; color: rgb(0\, 0\, 0)\; font-family: Arial\, Helvetica\, sans-serif\;">He was part of the Peter Brooks&rsquo\; internationally acclaimed &ldquo\;The Magic Flute&rdquo\; until April 2012.&nbsp\;In 2013 he sang Tamino (Die Zauberfl&ouml\;te) Op&eacute\;ra de Nice (Dir. F. Deloche)\, and in&nbsp\;2013/14 he was a member of the Opera Studio (Strasbourg &ndash\; Colmar) and followed the masterclasses of&nbsp\; Marie-Ange Todorovitch\,&nbsp\; Jean-Philippe Lafont\, and Umberto Finazzi (repetitor alla Scala). He has also performed the lead role in Aladin et la Lampe Merveilleuse\, Nino Rota\, Pinocchio\, Cavallari/Melozzi and La Colombe\, Charles Gounod for the Strasbourg National Opera. For the 2014/15 season he was part of Les Caprices de Marianne\, Henri Sauget on tour in most of the Opera houses of France.&nbsp\;Last Season he sang Leandre in the Medecin Malgr&eacute\; lui\, Charles Gounod at Saint etienne Opera and for the season 2016/2017 he is Marius in Les Mis&eacute\;rables for a national tour in France.</p>\n
LOCATION:The River Arts Center (105-9th Street\, Prairie du Sac)
UID:e.1184.14614
SEQUENCE:3
DTSTAMP:20260424T161717Z
URL:http://members.saukprairie.com/events/details/i-m-a-good-little-devil-february-12-2018-14614
END:VEVENT

END:VCALENDAR
