BEGIN:VCALENDAR
VERSION:2.0
PRODID:-//ChamberMaster//Event Calendar 2.0//EN
METHOD:PUBLISH
X-PUBLISHED-TTL:P3D
REFRESH-INTERVAL:P3D
CALSCALE:GREGORIAN
BEGIN:VEVENT
DTSTART:20180221T203000Z
DTEND:20180221T213000Z
X-MICROSOFT-CDO-ALLDAYEVENT:FALSE
SUMMARY:IceCube for Kids
DESCRIPTION:IceCube is the biggest and strangest telescope in the world! Learn about the lives of the men and women who are working in the extreme South Pole environment at the library Wednesday\, February 21 at 2:30 p.m.  Try on South Pole warm weather gear and ice drill just like the IceCube researchers did (but in 10 pound ice blocks)!  This event is appropriate for children in grades K-5. Contact Beth at 643-8318 with questions.
X-ALT-DESC;FMTTYPE=text/html:IceCube is the biggest and strangest telescope in the world! Learn about the lives of the men and women who are working in the extreme South Pole environment at the library Wednesday\, February 21 at 2:30 p.m.&nbsp\; Try on South Pole warm weather gear and ice drill just like the IceCube researchers did (but in 10 pound ice blocks)!&nbsp\; This event is appropriate for children in grades K-5. Contact Beth at 643-8318 with questions.
LOCATION:Ruth Culver Community Library 540 Water Street\, Prairie du Sac
UID:e.1184.14582
SEQUENCE:3
DTSTAMP:20260424T161415Z
URL:http://members.saukprairie.com/events/details/icecube-for-kids-14582
END:VEVENT

END:VCALENDAR
