BEGIN:VCALENDAR
VERSION:2.0
PRODID:-//ChamberMaster//Event Calendar 2.0//EN
METHOD:PUBLISH
X-PUBLISHED-TTL:P3D
REFRESH-INTERVAL:P3D
CALSCALE:GREGORIAN
BEGIN:VEVENT
DTSTART:20180414T000000Z
DTEND:20180414T020000Z
X-MICROSOFT-CDO-ALLDAYEVENT:FALSE
SUMMARY:Wrannock Celtic Trio House Concert
DESCRIPTION:Wrannock (Irish/Celtic trio)\n\nFriday\, April 13\, 2018 7pm\n\nRiver Arts on Water Gallery (590 Water St.)\n\nWrannock returns Friday\, April 13th to River Arts on Water Gallery (590 Water St. Prairie du Sac\, WI 53578) at 7pm for another night of Celtic songs and tunes played on tin whistle\, guitar\, cittern\, banjo\, bodhran\, and mandolin.  Wrannock Trio is a family group comprised of Mike Mossman\, Lisa Hartman and their son Angus.\n\nHouse concerts are casual\, intimate\, solo or small ensemble musical performances designed around the notion of having friends over to your living room to enjoy live music. There is no advance ticket sale\, only a $10 suggested donation at the door. All proceeds benefit River Arts Inc. programs.
X-ALT-DESC;FMTTYPE=text/html:<p><strong>Wrannock (Irish/Celtic trio)</strong></p>\n\n<p><strong>Friday\, April 13\, 2018 7pm</strong><br />\n<strong>River Arts on Water Gallery (590 Water St.)</strong></p>\n\n<p><span style="color:rgb(0\, 0\, 0)\; font-family:arial\,helvetica\,sans-serif">Wrannock returns Friday\, April 13th to River Arts on Water Gallery (590 Water St. Prairie du Sac\, WI 53578) at 7pm for another night of Celtic songs and tunes played on tin whistle\, guitar\, cittern\, banjo\, bodhran\, and mandolin.&nbsp\; Wrannock Trio is a family group comprised of Mike Mossman\, Lisa Hartman and their son Angus.</span></p>\n\n<p><em>House concerts are casual\, intimate\, solo or small ensemble musical performances designed around the notion of having friends over to your living room to enjoy live music. There is no advance ticket sale\, only a $10 suggested donation at the door. All proceeds benefit River Arts Inc. programs.</em></p>\n
LOCATION:River Arts on Water Gallery (590 Water St.\, Prairie du Sac)
UID:e.1184.11874
SEQUENCE:3
DTSTAMP:20260424T130258Z
URL:http://members.saukprairie.com/events/details/ida-jo-soul-folk-house-concert-11874
END:VEVENT

END:VCALENDAR
