BEGIN:VCALENDAR
VERSION:2.0
PRODID:-//ChamberMaster//Event Calendar 2.0//EN
METHOD:PUBLISH
X-PUBLISHED-TTL:P3D
REFRESH-INTERVAL:P3D
CALSCALE:GREGORIAN
BEGIN:VEVENT
DTSTART:20160623T233000Z
DTEND:20160624T004500Z
X-MICROSOFT-CDO-ALLDAYEVENT:FALSE
SUMMARY:Images of America: Sauk Prairie
DESCRIPTION:Jody Kapp will talk about her book Sauk Prairie\, part of the Images of America series\, and share stories behind the photos\, the glass plate negative collection\, and the ones that didn't make the cut. Copies of the book will be available for purchase.
X-ALT-DESC;FMTTYPE=text/html:Jody Kapp will talk about her book Sauk Prairie\, part of the Images of America series\, and share stories behind the photos\, the glass plate negative collection\, and the ones that didn&#39\;t make the cut. Copies of the book will be available for purchase.
LOCATION:Ruth Culver Community Library 540 Water Street Prairie du Sac
UID:e.1184.6914
SEQUENCE:3
DTSTAMP:20260426T021803Z
URL:http://members.saukprairie.com/events/details/images-of-america-sauk-prairie-06-23-2016-6914
END:VEVENT

END:VCALENDAR
